BEGIN:VCALENDAR
VERSION:2.0
PRODID:-//Colorado Triathlete - ECPv6.15.16//NONSGML v1.0//EN
CALSCALE:GREGORIAN
METHOD:PUBLISH
X-ORIGINAL-URL:https://coloradotriathlete.com
X-WR-CALDESC:Events for Colorado Triathlete
REFRESH-INTERVAL;VALUE=DURATION:PT1H
X-Robots-Tag:noindex
X-PUBLISHED-TTL:PT1H
BEGIN:VTIMEZONE
TZID:America/Denver
BEGIN:DAYLIGHT
TZOFFSETFROM:-0700
TZOFFSETTO:-0600
TZNAME:MDT
DTSTART:20210314T090000
END:DAYLIGHT
BEGIN:STANDARD
TZOFFSETFROM:-0600
TZOFFSETTO:-0700
TZNAME:MST
DTSTART:20211107T080000
END:STANDARD
BEGIN:DAYLIGHT
TZOFFSETFROM:-0700
TZOFFSETTO:-0600
TZNAME:MDT
DTSTART:20220313T090000
END:DAYLIGHT
BEGIN:STANDARD
TZOFFSETFROM:-0600
TZOFFSETTO:-0700
TZNAME:MST
DTSTART:20221106T080000
END:STANDARD
BEGIN:DAYLIGHT
TZOFFSETFROM:-0700
TZOFFSETTO:-0600
TZNAME:MDT
DTSTART:20230312T090000
END:DAYLIGHT
BEGIN:STANDARD
TZOFFSETFROM:-0600
TZOFFSETTO:-0700
TZNAME:MST
DTSTART:20231105T080000
END:STANDARD
BEGIN:DAYLIGHT
TZOFFSETFROM:-0700
TZOFFSETTO:-0600
TZNAME:MDT
DTSTART:20240310T090000
END:DAYLIGHT
BEGIN:STANDARD
TZOFFSETFROM:-0600
TZOFFSETTO:-0700
TZNAME:MST
DTSTART:20241103T080000
END:STANDARD
BEGIN:DAYLIGHT
TZOFFSETFROM:-0700
TZOFFSETTO:-0600
TZNAME:MDT
DTSTART:20250309T090000
END:DAYLIGHT
BEGIN:STANDARD
TZOFFSETFROM:-0600
TZOFFSETTO:-0700
TZNAME:MST
DTSTART:20251102T080000
END:STANDARD
BEGIN:DAYLIGHT
TZOFFSETFROM:-0700
TZOFFSETTO:-0600
TZNAME:MDT
DTSTART:20260308T090000
END:DAYLIGHT
BEGIN:STANDARD
TZOFFSETFROM:-0600
TZOFFSETTO:-0700
TZNAME:MST
DTSTART:20261101T080000
END:STANDARD
BEGIN:DAYLIGHT
TZOFFSETFROM:-0700
TZOFFSETTO:-0600
TZNAME:MDT
DTSTART:20270314T090000
END:DAYLIGHT
BEGIN:STANDARD
TZOFFSETFROM:-0600
TZOFFSETTO:-0700
TZNAME:MST
DTSTART:20271107T080000
END:STANDARD
END:VTIMEZONE
BEGIN:VEVENT
DTSTART;VALUE=DATE:20260411
DTEND;VALUE=DATE:20260412
DTSTAMP:20260422T192202
CREATED:20260110T205322Z
LAST-MODIFIED:20260110T205322Z
UID:10000385-1775865600-1775951999@coloradotriathlete.com
SUMMARY:Boulder Rez Half
DESCRIPTION:This spring race features a spectator-friendly Half Marathon\, 10K and 5K course. Attracting athletes from all over the west due to its phenomenal scenery\, glamorous finisher medals\, perfect running temperatures with many nearby Boulder attractions to enjoy after the race. \nThe run course loops around the Boulder Reservoir and remains mostly on dirt trails. The course is flat with only 200 feet of elevation gain. You will experience iconic views of the mountain range to the west.\n​\nThe Half Marathon will complete 2 loops\, and the 10K will complete one loop. 5K runners will take a different course route. \nThe Half Marathon is now a USAT Certified Course.
URL:https://coloradotriathlete.com/event/boulder-rez-half/
LOCATION:Boulder Reservoir\, 5275 Reservoir Road\, Boulder\, CO\, 80301\, United States
CATEGORIES:10 KM,5 KM,Half Marathon,Olympic Distance,Run,Sprint Distance,Triathlon
ATTACH;FMTTYPE=image/png:https://coloradotriathlete.com/wp-content/uploads/2022/08/bbsc-logo.png
END:VEVENT
BEGIN:VEVENT
DTSTART;VALUE=DATE:20260125
DTEND;VALUE=DATE:20260126
DTSTAMP:20260422T192202
CREATED:20260110T202241Z
LAST-MODIFIED:20260110T202241Z
UID:10000355-1769299200-1769385599@coloradotriathlete.com
SUMMARY:Yeti Chase 5K & 10K
DESCRIPTION:The Yeti Chase 5K & 10K take place at beautiful Bear Creek Lake Park in Lakewood. This is the 13th year for the Yeti Chase\, and it has sold out well before race day in all previous years. \nAfter chasing down the Yeti\, runners wander the park’s 2\,500 acres\, known for it’s diverse bird and waterfowl population as well as stunning views of the foothills. Quality Long Sleeve gender-specific technical running shirts\, hot cocoa\, and a personal video of your race finish! \nGet your photo taken with the Summit Cove Yeti and you could win a free summer stay at one of the beautiful Summit Cove properties in Keystone!
URL:https://coloradotriathlete.com/event/yeti-chase-5k-10k-4/
LOCATION:Bear Creek Lake Park (Lakewood)\, 15600 W. Morrison Road\, Lakewood\, CO\, 80228\, United States
CATEGORIES:10 KM,5 KM,Run
ATTACH;FMTTYPE=image/jpeg:https://coloradotriathlete.com/wp-content/uploads/2022/10/Yeti-Chase.jpg
END:VEVENT
BEGIN:VEVENT
DTSTART;VALUE=DATE:20250802
DTEND;VALUE=DATE:20250803
DTSTAMP:20260422T192202
CREATED:20241228T205447Z
LAST-MODIFIED:20241228T205447Z
UID:10000340-1754092800-1754179199@coloradotriathlete.com
SUMMARY:Boulder Rez Marathon
DESCRIPTION:This amazing run course will take you alongside the Boulder Reservoir\, remaining mostly on dirt roads and trails. The course is flat with only 200 feet of gain\, and will provide views of the Boulder Reservoir and Rocky Mountains.
URL:https://coloradotriathlete.com/event/boulder-rez-marathon-3/
LOCATION:Boulder Reservoir\, 5275 Reservoir Road\, Boulder\, CO\, 80301\, United States
CATEGORIES:10 KM,Half Marathon,Marathon,Run
ATTACH;FMTTYPE=image/png:https://coloradotriathlete.com/wp-content/uploads/2022/08/bbsc-logo.png
END:VEVENT
BEGIN:VEVENT
DTSTART;VALUE=DATE:20250427
DTEND;VALUE=DATE:20250428
DTSTAMP:20260422T192202
CREATED:20241228T204225Z
LAST-MODIFIED:20241228T204225Z
UID:10000320-1745712000-1745798399@coloradotriathlete.com
SUMMARY:NOCO Half Marathon & 10K
DESCRIPTION:Spring is the season of renewal and running. We hope you join us for a fun adventure that embodies the spirit of springtime at the beautiful Boyd Lake State Park! \nChoose from the Half Marathon (13.1 mile) or 10K (6.2 mile) for your run adventure. This course is on smooth paved walkways with about three quarters of a mile being off road. Beautiful lake and wildlife views and fun post race festivities. Did we mention almost no elevation gain? This is one flat course making sure you’ll set a new PR or enjoy a fun steady-paced morning run race
URL:https://coloradotriathlete.com/event/noco-half-marathon-10k-3/
LOCATION:Boyd Lake State Park (Loveland)\, 3720 N County Road 11-C\, Loveland\, CO\, 80538\, United States
CATEGORIES:10 KM,Half Marathon
ATTACH;FMTTYPE=image/png:https://coloradotriathlete.com/wp-content/uploads/2022/08/noco-half-marathon-10k-logo-sized-300x300-1.png
END:VEVENT
BEGIN:VEVENT
DTSTART;VALUE=DATE:20250126
DTEND;VALUE=DATE:20250127
DTSTAMP:20260422T192202
CREATED:20241228T203438Z
LAST-MODIFIED:20241228T203438Z
UID:10000313-1737849600-1737935999@coloradotriathlete.com
SUMMARY:Yeti Chase 5K & 10K
DESCRIPTION:The Yeti Chase 5K & 10K take place at beautiful Bear Creek Lake Park in Lakewood. This is the 13th year for the Yeti Chase\, and it has sold out well before race day in all previous years. \nAfter chasing down the Yeti\, runners wander the park’s 2\,500 acres\, known for it’s diverse bird and waterfowl population as well as stunning views of the foothills. Quality Long Sleeve gender-specific technical running shirts\, hot cocoa\, and a personal video of your race finish! \nGet your photo taken with the Summit Cove Yeti and you could win a free summer stay at one of the beautiful Summit Cove properties in Keystone!
URL:https://coloradotriathlete.com/event/yeti-chase-5k-10k-3/
LOCATION:Bear Creek Lake Park (Lakewood)\, 15600 W. Morrison Road\, Lakewood\, CO\, 80228\, United States
CATEGORIES:10 KM,5 KM,Run
ATTACH;FMTTYPE=image/jpeg:https://coloradotriathlete.com/wp-content/uploads/2022/10/Yeti-Chase.jpg
END:VEVENT
BEGIN:VEVENT
DTSTART;VALUE=DATE:20240803
DTEND;VALUE=DATE:20240804
DTSTAMP:20260422T192202
CREATED:20231217T202919Z
LAST-MODIFIED:20231217T202919Z
UID:10000300-1722643200-1722729599@coloradotriathlete.com
SUMMARY:Boulder Rez Marathon
DESCRIPTION:This amazing run course will take you alongside the Boulder Reservoir\, remaining mostly on dirt roads and trails. The course is flat with only 200 feet of gain\, and will provide views of the Boulder Reservoir and Rocky Mountains. \nMarathon\, 3/4 Marathon\, Half Marathon\, 10K\, Relay
URL:https://coloradotriathlete.com/event/boulder-rez-marathon-2/
LOCATION:Boulder Reservoir\, 5275 Reservoir Road\, Boulder\, CO\, 80301\, United States
CATEGORIES:10 KM,Half Marathon,Marathon,Run
ATTACH;FMTTYPE=image/png:https://coloradotriathlete.com/wp-content/uploads/2022/08/bbsc-logo.png
END:VEVENT
BEGIN:VEVENT
DTSTART;VALUE=DATE:20240427
DTEND;VALUE=DATE:20240428
DTSTAMP:20260422T192202
CREATED:20231217T203643Z
LAST-MODIFIED:20231217T203643Z
UID:10000306-1714176000-1714262399@coloradotriathlete.com
SUMMARY:NOCO Half Marathon & 10K
DESCRIPTION:Spring is the season of renewal and running. We hope you join us for a fun adventure that embodies the spirit of springtime at the beautiful Boyd Lake State Park! \nChoose from the Half Marathon (13.1 mile) or 10K (6.2 mile) for your run adventure. This course is on smooth paved walkways with about three quarters of a mile being off road. Beautiful lake and wildlife views and fun post race festivities. Did we mention almost no elevation gain? This is one flat course making sure you’ll set a new PR or enjoy a fun steady-paced morning run race
URL:https://coloradotriathlete.com/event/noco-half-marathon-10k-2/
LOCATION:Boyd Lake State Park (Loveland)\, 3720 N County Road 11-C\, Loveland\, CO\, 80538\, United States
CATEGORIES:10 KM,Half Marathon
ATTACH;FMTTYPE=image/png:https://coloradotriathlete.com/wp-content/uploads/2022/08/noco-half-marathon-10k-logo-sized-300x300-1.png
END:VEVENT
BEGIN:VEVENT
DTSTART;VALUE=DATE:20240128
DTEND;VALUE=DATE:20240129
DTSTAMP:20260422T192202
CREATED:20231217T204159Z
LAST-MODIFIED:20231217T204159Z
UID:10000309-1706400000-1706486399@coloradotriathlete.com
SUMMARY:Yeti Chase 5K & 10K
DESCRIPTION:The Yeti Chase 5K & 10K take place at beautiful Bear Creek Lake Park in Lakewood. This is the 13th year for the Yeti Chase\, and it has sold out well before race day in all previous years. \nAfter chasing down the Yeti\, runners wander the park’s 2\,500 acres\, known for it’s diverse bird and waterfowl population as well as stunning views of the foothills. Quality Long Sleeve gender-specific technical running shirts\, hot cocoa\, and a personal video of your race finish! \nGet your photo taken with the Summit Cove Yeti and you could win a free summer stay at one of the beautiful Summit Cove properties in Keystone!
URL:https://coloradotriathlete.com/event/yeti-chase-5k-10k-2/
LOCATION:Bear Creek Lake Park (Lakewood)\, 15600 W. Morrison Road\, Lakewood\, CO\, 80228\, United States
CATEGORIES:10 KM,5 KM,Run
ATTACH;FMTTYPE=image/jpeg:https://coloradotriathlete.com/wp-content/uploads/2022/10/Yeti-Chase.jpg
END:VEVENT
BEGIN:VEVENT
DTSTART;VALUE=DATE:20230916
DTEND;VALUE=DATE:20230917
DTSTAMP:20260422T192202
CREATED:20230228T012607Z
LAST-MODIFIED:20230228T012607Z
UID:10000266-1694822400-1694908799@coloradotriathlete.com
SUMMARY:Run the Rockies Road 10K & Half Marathon
DESCRIPTION:The Run the Rockies Road 10k and Half Marathon will feature the traditional Run the Rockies Road Race course with runners starting near Copper Mountain; runners will follow the paved recreation path through the Ten Mile Canyon. The 10k course is 100% downhill and the half marathon course is 75% downhill. This course will showcase the beautiful fall colors in Frisco!
URL:https://coloradotriathlete.com/event/run-the-rockies-road-10k-half-marathon-2023/
LOCATION:Frisco\, Frisco\, CO\, United States
CATEGORIES:10 KM,Half Marathon,Run
ATTACH;FMTTYPE=image/png:https://coloradotriathlete.com/wp-content/uploads/2022/08/Frisco.png
END:VEVENT
BEGIN:VEVENT
DTSTART;VALUE=DATE:20230812
DTEND;VALUE=DATE:20230813
DTSTAMP:20260422T192202
CREATED:20230228T012526Z
LAST-MODIFIED:20230228T012526Z
UID:10000265-1691798400-1691884799@coloradotriathlete.com
SUMMARY:Run the Rockies Trail 10K & Half Marathon
DESCRIPTION:The Run the Rockies Trail 10k and Half Marathon will lead runners through the Frisco Peninsula trails with breathtaking views of Lake Dillon and the Ten Mile Range. This is a great course for a first time half-marathoner or runner looking for a fun course that offers single track and dirt road trails. Racers will start and finish at the Frisco Nordic Center.
URL:https://coloradotriathlete.com/event/run-the-rockies-trail-10k-half-marathon-2023/
LOCATION:Frisco Nordic Center\, 616 Recreation Way\, Frisco\, CO\, United States
CATEGORIES:10 KM,Half Marathon,Run,Trail Run
ATTACH;FMTTYPE=image/png:https://coloradotriathlete.com/wp-content/uploads/2022/08/Frisco.png
END:VEVENT
BEGIN:VEVENT
DTSTART;VALUE=DATE:20230812
DTEND;VALUE=DATE:20230813
DTSTAMP:20260422T192202
CREATED:20230228T011839Z
LAST-MODIFIED:20230228T011839Z
UID:10000259-1691798400-1691884799@coloradotriathlete.com
SUMMARY:Boulder Rez Marathon
DESCRIPTION:This amazing run course will take you alongside the Boulder Reservoir\, remaining mostly on dirt roads and trails. The course is flat with only 200 feet of gain\, and will provide views of the Boulder Reservoir and Rocky Mountains. \nMarathon\, 3/4 Marathon\, Half Marathon\, 10K\, Relay
URL:https://coloradotriathlete.com/event/boulder-rez-marathon-2023/
LOCATION:Boulder Reservoir\, 5275 Reservoir Road\, Boulder\, CO\, 80301\, United States
CATEGORIES:10 KM,Half Marathon,Marathon,Run
ATTACH;FMTTYPE=image/png:https://coloradotriathlete.com/wp-content/uploads/2022/08/bbsc-logo.png
END:VEVENT
BEGIN:VEVENT
DTSTART;VALUE=DATE:20230521
DTEND;VALUE=DATE:20230522
DTSTAMP:20260422T192202
CREATED:20220803T132418Z
LAST-MODIFIED:20220803T132418Z
UID:10000156-1684627200-1684713599@coloradotriathlete.com
SUMMARY:NOCO Half Marathon & 10K
DESCRIPTION:Spring is the season of renewal and running. We hope you join us for a fun adventure that embodies the spirit of springtime at the beautiful Boyd Lake State Park! \nChoose from the Half Marathon (13.1 mile) or 10K (6.2 mile) for your run adventure. This course is on smooth paved walkways with about three quarters of a mile being off road. Beautiful lake and wildlife views and fun post race festivities. Did we mention almost no elevation gain? This is one flat course making sure you’ll set a new PR or enjoy a fun steady-paced morning run race
URL:https://coloradotriathlete.com/event/noco-half-marathon-10k/
LOCATION:Boyd Lake State Park (Loveland)\, 3720 N County Road 11-C\, Loveland\, CO\, 80538\, United States
CATEGORIES:10 KM,Half Marathon
ATTACH;FMTTYPE=image/png:https://coloradotriathlete.com/wp-content/uploads/2022/08/noco-half-marathon-10k-logo-sized-300x300-1.png
END:VEVENT
BEGIN:VEVENT
DTSTART;VALUE=DATE:20230415
DTEND;VALUE=DATE:20230416
DTSTAMP:20260422T192202
CREATED:20230228T011640Z
LAST-MODIFIED:20230228T011640Z
UID:10000257-1681516800-1681603199@coloradotriathlete.com
SUMMARY:Boulder Rez Half Marathon
DESCRIPTION:Half Marathon\, 10K\, 5K\, Relay
URL:https://coloradotriathlete.com/event/boulder-rez-half-marathon-2023/
LOCATION:Boulder Reservoir\, 5275 Reservoir Road\, Boulder\, CO\, 80301\, United States
CATEGORIES:10 KM,5 KM,Run
ATTACH;FMTTYPE=image/png:https://coloradotriathlete.com/wp-content/uploads/2022/08/bbsc-logo.png
END:VEVENT
BEGIN:VEVENT
DTSTART;VALUE=DATE:20230129
DTEND;VALUE=DATE:20230130
DTSTAMP:20260422T192202
CREATED:20221019T165655Z
LAST-MODIFIED:20221019T165655Z
UID:10000177-1674950400-1675036799@coloradotriathlete.com
SUMMARY:Yeti Chase 5K & 10K
DESCRIPTION:The Yeti Chase 5K & 10K take place at beautiful Bear Creek Lake Park in Lakewood. This is the 13th year for the Yeti Chase\, and it has sold out well before race day in all previous years. \nAfter chasing down the Yeti\, runners wander the park’s 2\,500 acres\, known for it’s diverse bird and waterfowl population as well as stunning views of the foothills. Quality Long Sleeve gender-specific technical running shirts\, hot cocoa\, and a personal video of your race finish! \nGet your photo taken with the Summit Cove Yeti and you could win a free summer stay at one of the beautiful Summit Cove properties in Keystone!
URL:https://coloradotriathlete.com/event/yeti-chase-5k-10k/
LOCATION:Bear Creek Lake Park (Lakewood)\, 15600 W. Morrison Road\, Lakewood\, CO\, 80228\, United States
CATEGORIES:10 KM,5 KM,Run
ATTACH;FMTTYPE=image/jpeg:https://coloradotriathlete.com/wp-content/uploads/2022/10/Yeti-Chase.jpg
END:VEVENT
BEGIN:VEVENT
DTSTART;VALUE=DATE:20220917
DTEND;VALUE=DATE:20220918
DTSTAMP:20260422T192202
CREATED:20220803T195707Z
LAST-MODIFIED:20220803T195707Z
UID:10000165-1663372800-1663459199@coloradotriathlete.com
SUMMARY:Run the Rockies Road 10K & Half Marathon
DESCRIPTION:The Run the Rockies Road 10k and Half Marathon will feature the traditional Run the Rockies Road Race course with runners starting near Copper Mountain; runners will follow the paved recreation path through the Ten Mile Canyon. The 10k course is 100% downhill and the half marathon course is 75% downhill. This course will showcase the beautiful fall colors in Frisco!
URL:https://coloradotriathlete.com/event/run-the-rockies-road-10k-half-marathon/
LOCATION:Frisco\, Frisco\, CO\, United States
CATEGORIES:10 KM,Half Marathon,Run
ATTACH;FMTTYPE=image/png:https://coloradotriathlete.com/wp-content/uploads/2022/08/Frisco.png
END:VEVENT
BEGIN:VEVENT
DTSTART;VALUE=DATE:20220813
DTEND;VALUE=DATE:20220814
DTSTAMP:20260422T192202
CREATED:20220803T195034Z
LAST-MODIFIED:20220803T195034Z
UID:10000098-1660348800-1660435199@coloradotriathlete.com
SUMMARY:Run the Rockies Trail 10K & Half Marathon
DESCRIPTION:The Run the Rockies Trail 10k and Half Marathon will lead runners through the Frisco Peninsula trails with breathtaking views of Lake Dillon and the Ten Mile Range. This is a great course for a first time half-marathoner or runner looking for a fun course that offers single track and dirt road trails. Racers will start and finish at the Frisco Nordic Center.
URL:https://coloradotriathlete.com/event/run-the-rockies-trail-10k-half-marathon/
LOCATION:Frisco Nordic Center\, 616 Recreation Way\, Frisco\, CO\, United States
CATEGORIES:10 KM,Half Marathon,Run,Trail Run
ATTACH;FMTTYPE=image/png:https://coloradotriathlete.com/wp-content/uploads/2022/08/Frisco.png
END:VEVENT
BEGIN:VEVENT
DTSTART;VALUE=DATE:20220813
DTEND;VALUE=DATE:20220814
DTSTAMP:20260422T192202
CREATED:20220802T222447Z
LAST-MODIFIED:20220803T130205Z
UID:10000111-1660348800-1660435199@coloradotriathlete.com
SUMMARY:Boulder Rez Marathon
DESCRIPTION:This amazing run course will take you alongside the Boulder Reservoir\, remaining mostly on dirt roads and trails. The course is flat with only 200 feet of gain\, and will provide views of the Boulder Reservoir and Rocky Mountains. \nMarathon\, 3/4 Marathon\, Half Marathon\, 10K\, Relay
URL:https://coloradotriathlete.com/event/boulder-rez-marathon/
LOCATION:Boulder Reservoir\, 5275 Reservoir Road\, Boulder\, CO\, 80301\, United States
CATEGORIES:10 KM,Half Marathon,Marathon,Run
ATTACH;FMTTYPE=image/png:https://coloradotriathlete.com/wp-content/uploads/2022/08/bbsc-logo.png
END:VEVENT
BEGIN:VEVENT
DTSTART;VALUE=DATE:20220611
DTEND;VALUE=DATE:20220612
DTSTAMP:20260422T192202
CREATED:20220803T020659Z
LAST-MODIFIED:20220803T130924Z
UID:10000145-1654905600-1654991999@coloradotriathlete.com
SUMMARY:Boulder Rez Half Marathon
DESCRIPTION:Half Marathon\, 10K\, 5K\, Relay
URL:https://coloradotriathlete.com/event/boulder-rez-half-marathon/
LOCATION:Boulder Reservoir\, 5275 Reservoir Road\, Boulder\, CO\, 80301\, United States
CATEGORIES:10 KM,5 KM,Run
ATTACH;FMTTYPE=image/png:https://coloradotriathlete.com/wp-content/uploads/2022/08/bbsc-logo.png
END:VEVENT
END:VCALENDAR