BEGIN:VCALENDAR
VERSION:2.0
PRODID:-//Colorado Triathlete - ECPv6.15.16//NONSGML v1.0//EN
CALSCALE:GREGORIAN
METHOD:PUBLISH
X-WR-CALNAME:Colorado Triathlete
X-ORIGINAL-URL:https://coloradotriathlete.com
X-WR-CALDESC:Events for Colorado Triathlete
REFRESH-INTERVAL;VALUE=DURATION:PT1H
X-Robots-Tag:noindex
X-PUBLISHED-TTL:PT1H
BEGIN:VTIMEZONE
TZID:America/Denver
BEGIN:DAYLIGHT
TZOFFSETFROM:-0700
TZOFFSETTO:-0600
TZNAME:MDT
DTSTART:20250309T090000
END:DAYLIGHT
BEGIN:STANDARD
TZOFFSETFROM:-0600
TZOFFSETTO:-0700
TZNAME:MST
DTSTART:20251102T080000
END:STANDARD
BEGIN:DAYLIGHT
TZOFFSETFROM:-0700
TZOFFSETTO:-0600
TZNAME:MDT
DTSTART:20260308T090000
END:DAYLIGHT
BEGIN:STANDARD
TZOFFSETFROM:-0600
TZOFFSETTO:-0700
TZNAME:MST
DTSTART:20261101T080000
END:STANDARD
BEGIN:DAYLIGHT
TZOFFSETFROM:-0700
TZOFFSETTO:-0600
TZNAME:MDT
DTSTART:20270314T090000
END:DAYLIGHT
BEGIN:STANDARD
TZOFFSETFROM:-0600
TZOFFSETTO:-0700
TZNAME:MST
DTSTART:20271107T080000
END:STANDARD
END:VTIMEZONE
BEGIN:VEVENT
DTSTART;VALUE=DATE:20260627
DTEND;VALUE=DATE:20260628
DTSTAMP:20260425T095913
CREATED:20260110T204925Z
LAST-MODIFIED:20260110T204925Z
UID:10000384-1782518400-1782604799@coloradotriathlete.com
SUMMARY:Timberview Trail Run
DESCRIPTION:Crisp morning air and a summer sunrise in Colorado. YES PLEASE! Join us on the foothills at Lory State Park for a fun & beautiful morning trail race experience. \nThis run race features three distances (a 10 mile\, a 5 mile and a 5K) that are great for just about any level athlete at any age. Run on a beautiful & scenic course among the treetops with views of Horsetooth reservoir\, Fort Collins & the foothills. Bring the kiddos too as the 5K route is very beginner friendly.
URL:https://coloradotriathlete.com/event/timberview-trail-run-2/
LOCATION:Boyd Lake State Park (Loveland)\, 3720 N County Road 11-C\, Loveland\, CO\, 80538\, United States
CATEGORIES:10 KM,10 Mile,5 KM,5 Mile,Half Marathon,Trail Run
ATTACH;FMTTYPE=image/jpeg:https://coloradotriathlete.com/wp-content/uploads/2026/01/timberview-trail-run-logo-2-350x346-1.jpg
END:VEVENT
END:VCALENDAR