BEGIN:VCALENDAR
VERSION:2.0
PRODID:-//Colorado Triathlete - ECPv6.15.16//NONSGML v1.0//EN
CALSCALE:GREGORIAN
METHOD:PUBLISH
X-WR-CALNAME:Colorado Triathlete
X-ORIGINAL-URL:https://coloradotriathlete.com
X-WR-CALDESC:Events for Colorado Triathlete
REFRESH-INTERVAL;VALUE=DURATION:PT1H
X-Robots-Tag:noindex
X-PUBLISHED-TTL:PT1H
BEGIN:VTIMEZONE
TZID:America/Denver
BEGIN:DAYLIGHT
TZOFFSETFROM:-0700
TZOFFSETTO:-0600
TZNAME:MDT
DTSTART:20220313T090000
END:DAYLIGHT
BEGIN:STANDARD
TZOFFSETFROM:-0600
TZOFFSETTO:-0700
TZNAME:MST
DTSTART:20221106T080000
END:STANDARD
BEGIN:DAYLIGHT
TZOFFSETFROM:-0700
TZOFFSETTO:-0600
TZNAME:MDT
DTSTART:20230312T090000
END:DAYLIGHT
BEGIN:STANDARD
TZOFFSETFROM:-0600
TZOFFSETTO:-0700
TZNAME:MST
DTSTART:20231105T080000
END:STANDARD
BEGIN:DAYLIGHT
TZOFFSETFROM:-0700
TZOFFSETTO:-0600
TZNAME:MDT
DTSTART:20240310T090000
END:DAYLIGHT
BEGIN:STANDARD
TZOFFSETFROM:-0600
TZOFFSETTO:-0700
TZNAME:MST
DTSTART:20241103T080000
END:STANDARD
BEGIN:DAYLIGHT
TZOFFSETFROM:-0700
TZOFFSETTO:-0600
TZNAME:MDT
DTSTART:20250309T090000
END:DAYLIGHT
BEGIN:STANDARD
TZOFFSETFROM:-0600
TZOFFSETTO:-0700
TZNAME:MST
DTSTART:20251102T080000
END:STANDARD
BEGIN:DAYLIGHT
TZOFFSETFROM:-0700
TZOFFSETTO:-0600
TZNAME:MDT
DTSTART:20260308T090000
END:DAYLIGHT
BEGIN:STANDARD
TZOFFSETFROM:-0600
TZOFFSETTO:-0700
TZNAME:MST
DTSTART:20261101T080000
END:STANDARD
BEGIN:DAYLIGHT
TZOFFSETFROM:-0700
TZOFFSETTO:-0600
TZNAME:MDT
DTSTART:20270314T090000
END:DAYLIGHT
BEGIN:STANDARD
TZOFFSETFROM:-0600
TZOFFSETTO:-0700
TZNAME:MST
DTSTART:20271107T080000
END:STANDARD
END:VTIMEZONE
BEGIN:VEVENT
DTSTART;VALUE=DATE:20260411
DTEND;VALUE=DATE:20260412
DTSTAMP:20260422T164843
CREATED:20260110T205322Z
LAST-MODIFIED:20260110T205322Z
UID:10000385-1775865600-1775951999@coloradotriathlete.com
SUMMARY:Boulder Rez Half
DESCRIPTION:This spring race features a spectator-friendly Half Marathon\, 10K and 5K course. Attracting athletes from all over the west due to its phenomenal scenery\, glamorous finisher medals\, perfect running temperatures with many nearby Boulder attractions to enjoy after the race. \nThe run course loops around the Boulder Reservoir and remains mostly on dirt trails. The course is flat with only 200 feet of elevation gain. You will experience iconic views of the mountain range to the west.\n​\nThe Half Marathon will complete 2 loops\, and the 10K will complete one loop. 5K runners will take a different course route. \nThe Half Marathon is now a USAT Certified Course.
URL:https://coloradotriathlete.com/event/boulder-rez-half/
LOCATION:Boulder Reservoir\, 5275 Reservoir Road\, Boulder\, CO\, 80301\, United States
CATEGORIES:10 KM,5 KM,Half Marathon,Olympic Distance,Run,Sprint Distance,Triathlon
ATTACH;FMTTYPE=image/png:https://coloradotriathlete.com/wp-content/uploads/2022/08/bbsc-logo.png
END:VEVENT
BEGIN:VEVENT
DTSTART;VALUE=DATE:20260405
DTEND;VALUE=DATE:20260406
DTSTAMP:20260422T164843
CREATED:20260110T210430Z
LAST-MODIFIED:20260110T210430Z
UID:10000389-1775347200-1775433599@coloradotriathlete.com
SUMMARY:Three Creeks Half Marathon
DESCRIPTION:Racing Underground brings you an amazing half marathon this spring! The Three Creeks Half Marathon features a half marathon course that is flat\, fast and scenic! \nTravel on foot through some of the most beautiful parts of Cherry Creek State Park\, with a total combined elevation gain of only 291 feet spread out over 13.1 miles as the course follows the banks of Cherry Creek\, Windmill Creek\, and Cottonwood Creek on a mix of road\, paved running trail\, and wide dirt trails.
URL:https://coloradotriathlete.com/event/three-creeks-half-marathon/
LOCATION:Bear Creek Lake Park (Lakewood)\, 15600 W. Morrison Road\, Lakewood\, CO\, 80228\, United States
CATEGORIES:Half Marathon,Run
ATTACH;FMTTYPE=image/webp:https://coloradotriathlete.com/wp-content/uploads/2026/01/RacingUnderground.webp
END:VEVENT
BEGIN:VEVENT
DTSTART;VALUE=DATE:20260215
DTEND;VALUE=DATE:20260216
DTSTAMP:20260422T164843
CREATED:20260110T202011Z
LAST-MODIFIED:20260110T202011Z
UID:10000354-1771113600-1771199999@coloradotriathlete.com
SUMMARY:Ralston Creek Half-Marathon & 5K
DESCRIPTION:The Ralston Creek Half-Marathon & 5K has become Colorado’s premier winter half marathon! \nFinisher Medals for Half Marathon finishers and a generous 4:30 cutoff time. \nCourses follow a scenic mix of road and bike path through Arvada’s beautiful west side. Long-Sleeve Gender-Specific Tech Shirts\, hot cocoa\, breakfast burritos from El Senor Sol Mexican restaurant\, and free race photos.
URL:https://coloradotriathlete.com/event/ralston-creek-half-marathon-5k-4/
LOCATION:Arvada\, Arvada\, CO\, United States
CATEGORIES:5 KM,Half Marathon,Run
ATTACH;FMTTYPE=image/jpeg:https://coloradotriathlete.com/wp-content/uploads/2022/10/Ralston-Creek-Half.jpg
END:VEVENT
BEGIN:VEVENT
DTSTART;VALUE=DATE:20260125
DTEND;VALUE=DATE:20260126
DTSTAMP:20260422T164843
CREATED:20260110T202241Z
LAST-MODIFIED:20260110T202241Z
UID:10000355-1769299200-1769385599@coloradotriathlete.com
SUMMARY:Yeti Chase 5K & 10K
DESCRIPTION:The Yeti Chase 5K & 10K take place at beautiful Bear Creek Lake Park in Lakewood. This is the 13th year for the Yeti Chase\, and it has sold out well before race day in all previous years. \nAfter chasing down the Yeti\, runners wander the park’s 2\,500 acres\, known for it’s diverse bird and waterfowl population as well as stunning views of the foothills. Quality Long Sleeve gender-specific technical running shirts\, hot cocoa\, and a personal video of your race finish! \nGet your photo taken with the Summit Cove Yeti and you could win a free summer stay at one of the beautiful Summit Cove properties in Keystone!
URL:https://coloradotriathlete.com/event/yeti-chase-5k-10k-4/
LOCATION:Bear Creek Lake Park (Lakewood)\, 15600 W. Morrison Road\, Lakewood\, CO\, 80228\, United States
CATEGORIES:10 KM,5 KM,Run
ATTACH;FMTTYPE=image/jpeg:https://coloradotriathlete.com/wp-content/uploads/2022/10/Yeti-Chase.jpg
END:VEVENT
BEGIN:VEVENT
DTSTART;VALUE=DATE:20250823
DTEND;VALUE=DATE:20250824
DTSTAMP:20260422T164843
CREATED:20241228T205548Z
LAST-MODIFIED:20241228T205548Z
UID:10000343-1755907200-1755993599@coloradotriathlete.com
SUMMARY:Boulder Sunset Triathlon
DESCRIPTION:Join us for an unforgettable morning at the Boulder Reservoir. Although this race does not take place at sunset\, it will take place at the end of the summer– it’s sister race is the Boulder Sunrise in June. Experience gorgeous views at the recently upgraded venue. All participants receive stellar race shirts and finisher medals\, too. This race is a favorite for beginners due to the flat bike course and a packed dirt trail run course.
URL:https://coloradotriathlete.com/event/boulder-sunset-triathlon-3/
LOCATION:Boulder Reservoir\, 5275 Reservoir Road\, Boulder\, CO\, 80301\, United States
CATEGORIES:Aquabike,Olympic Distance,Run,Sprint Distance,Triathlon
ATTACH;FMTTYPE=image/png:https://coloradotriathlete.com/wp-content/uploads/2022/08/bbsc-logo.png
END:VEVENT
BEGIN:VEVENT
DTSTART;VALUE=DATE:20250802
DTEND;VALUE=DATE:20250803
DTSTAMP:20260422T164843
CREATED:20241228T205447Z
LAST-MODIFIED:20241228T205447Z
UID:10000340-1754092800-1754179199@coloradotriathlete.com
SUMMARY:Boulder Rez Marathon
DESCRIPTION:This amazing run course will take you alongside the Boulder Reservoir\, remaining mostly on dirt roads and trails. The course is flat with only 200 feet of gain\, and will provide views of the Boulder Reservoir and Rocky Mountains.
URL:https://coloradotriathlete.com/event/boulder-rez-marathon-3/
LOCATION:Boulder Reservoir\, 5275 Reservoir Road\, Boulder\, CO\, 80301\, United States
CATEGORIES:10 KM,Half Marathon,Marathon,Run
ATTACH;FMTTYPE=image/png:https://coloradotriathlete.com/wp-content/uploads/2022/08/bbsc-logo.png
END:VEVENT
BEGIN:VEVENT
DTSTART;VALUE=DATE:20250629
DTEND;VALUE=DATE:20250630
DTSTAMP:20260422T164843
CREATED:20241228T205057Z
LAST-MODIFIED:20241228T205057Z
UID:10000336-1751155200-1751241599@coloradotriathlete.com
SUMMARY:Boulder Sunrise Triathlon
DESCRIPTION:Kick off your summer of racing in Boulder.
URL:https://coloradotriathlete.com/event/boulder-sunrise-triathlon-3/
LOCATION:Boulder Reservoir\, 5275 Reservoir Road\, Boulder\, CO\, 80301\, United States
CATEGORIES:Aquabike,Duathlon,Olympic Distance,Run,Sprint Distance,Triathlon
ATTACH;FMTTYPE=image/png:https://coloradotriathlete.com/wp-content/uploads/2022/08/bbsc-logo.png
END:VEVENT
BEGIN:VEVENT
DTSTART;VALUE=DATE:20250427
DTEND;VALUE=DATE:20250428
DTSTAMP:20260422T164843
CREATED:20241228T204225Z
LAST-MODIFIED:20241228T204225Z
UID:10000320-1745712000-1745798399@coloradotriathlete.com
SUMMARY:NOCO Half Marathon & 10K
DESCRIPTION:Spring is the season of renewal and running. We hope you join us for a fun adventure that embodies the spirit of springtime at the beautiful Boyd Lake State Park! \nChoose from the Half Marathon (13.1 mile) or 10K (6.2 mile) for your run adventure. This course is on smooth paved walkways with about three quarters of a mile being off road. Beautiful lake and wildlife views and fun post race festivities. Did we mention almost no elevation gain? This is one flat course making sure you’ll set a new PR or enjoy a fun steady-paced morning run race
URL:https://coloradotriathlete.com/event/noco-half-marathon-10k-3/
LOCATION:Boyd Lake State Park (Loveland)\, 3720 N County Road 11-C\, Loveland\, CO\, 80538\, United States
CATEGORIES:10 KM,Half Marathon
ATTACH;FMTTYPE=image/png:https://coloradotriathlete.com/wp-content/uploads/2022/08/noco-half-marathon-10k-logo-sized-300x300-1.png
END:VEVENT
BEGIN:VEVENT
DTSTART;VALUE=DATE:20250216
DTEND;VALUE=DATE:20250217
DTSTAMP:20260422T164843
CREATED:20241228T203917Z
LAST-MODIFIED:20241228T203917Z
UID:10000319-1739664000-1739750399@coloradotriathlete.com
SUMMARY:Ralston Creek Half-Marathon & 5K
DESCRIPTION:The Ralston Creek Half-Marathon & 5K has become Colorado’s premier winter half marathon! \nFinisher Medals for Half Marathon finishers and a generous 4:30 cutoff time. \nCourses follow a scenic mix of road and bike path through Arvada’s beautiful west side. Long-Sleeve Gender-Specific Tech Shirts\, hot cocoa\, breakfast burritos from El Senor Sol Mexican restaurant\, and free race photos.
URL:https://coloradotriathlete.com/event/ralston-creek-half-marathon-5k-3/
LOCATION:Arvada\, Arvada\, CO\, United States
CATEGORIES:5 KM,Half Marathon,Run
ATTACH;FMTTYPE=image/jpeg:https://coloradotriathlete.com/wp-content/uploads/2022/10/Ralston-Creek-Half.jpg
END:VEVENT
BEGIN:VEVENT
DTSTART;VALUE=DATE:20250126
DTEND;VALUE=DATE:20250127
DTSTAMP:20260422T164843
CREATED:20241228T203438Z
LAST-MODIFIED:20241228T203438Z
UID:10000313-1737849600-1737935999@coloradotriathlete.com
SUMMARY:Yeti Chase 5K & 10K
DESCRIPTION:The Yeti Chase 5K & 10K take place at beautiful Bear Creek Lake Park in Lakewood. This is the 13th year for the Yeti Chase\, and it has sold out well before race day in all previous years. \nAfter chasing down the Yeti\, runners wander the park’s 2\,500 acres\, known for it’s diverse bird and waterfowl population as well as stunning views of the foothills. Quality Long Sleeve gender-specific technical running shirts\, hot cocoa\, and a personal video of your race finish! \nGet your photo taken with the Summit Cove Yeti and you could win a free summer stay at one of the beautiful Summit Cove properties in Keystone!
URL:https://coloradotriathlete.com/event/yeti-chase-5k-10k-3/
LOCATION:Bear Creek Lake Park (Lakewood)\, 15600 W. Morrison Road\, Lakewood\, CO\, 80228\, United States
CATEGORIES:10 KM,5 KM,Run
ATTACH;FMTTYPE=image/jpeg:https://coloradotriathlete.com/wp-content/uploads/2022/10/Yeti-Chase.jpg
END:VEVENT
BEGIN:VEVENT
DTSTART;VALUE=DATE:20240824
DTEND;VALUE=DATE:20240825
DTSTAMP:20260422T164843
CREATED:20231217T202657Z
LAST-MODIFIED:20231217T202657Z
UID:10000299-1724457600-1724543999@coloradotriathlete.com
SUMMARY:Boulder Sunset Triathlon
DESCRIPTION:Join us for an unforgettable morning at the Boulder Reservoir. Although this race does not take place at sunset\, it will take place at the end of the summer– it’s sister race is the Boulder Sunrise in June. Experience gorgeous views at the recently upgraded venue. All participants receive stellar race shirts and finisher medals\, too. This race is a favorite for beginners due to the flat bike course and a packed dirt trail run course.
URL:https://coloradotriathlete.com/event/boulder-sunset-triathlon-2/
LOCATION:Boulder Reservoir\, 5275 Reservoir Road\, Boulder\, CO\, 80301\, United States
CATEGORIES:Aquabike,Olympic Distance,Run,Sprint Distance,Triathlon
ATTACH;FMTTYPE=image/png:https://coloradotriathlete.com/wp-content/uploads/2022/08/bbsc-logo.png
END:VEVENT
BEGIN:VEVENT
DTSTART;VALUE=DATE:20240803
DTEND;VALUE=DATE:20240804
DTSTAMP:20260422T164843
CREATED:20231217T202919Z
LAST-MODIFIED:20231217T202919Z
UID:10000300-1722643200-1722729599@coloradotriathlete.com
SUMMARY:Boulder Rez Marathon
DESCRIPTION:This amazing run course will take you alongside the Boulder Reservoir\, remaining mostly on dirt roads and trails. The course is flat with only 200 feet of gain\, and will provide views of the Boulder Reservoir and Rocky Mountains. \nMarathon\, 3/4 Marathon\, Half Marathon\, 10K\, Relay
URL:https://coloradotriathlete.com/event/boulder-rez-marathon-2/
LOCATION:Boulder Reservoir\, 5275 Reservoir Road\, Boulder\, CO\, 80301\, United States
CATEGORIES:10 KM,Half Marathon,Marathon,Run
ATTACH;FMTTYPE=image/png:https://coloradotriathlete.com/wp-content/uploads/2022/08/bbsc-logo.png
END:VEVENT
BEGIN:VEVENT
DTSTART;VALUE=DATE:20240623
DTEND;VALUE=DATE:20240624
DTSTAMP:20260422T164843
CREATED:20231217T203417Z
LAST-MODIFIED:20231217T203417Z
UID:10000302-1719100800-1719187199@coloradotriathlete.com
SUMMARY:Boulder Sunrise Triathlon
DESCRIPTION:Kick off your summer of racing in Boulder.
URL:https://coloradotriathlete.com/event/boulder-sunrise-triathlon-2/
LOCATION:Boulder Reservoir\, 5275 Reservoir Road\, Boulder\, CO\, 80301\, United States
CATEGORIES:Aquabike,Duathlon,Olympic Distance,Run,Sprint Distance,Triathlon
ATTACH;FMTTYPE=image/png:https://coloradotriathlete.com/wp-content/uploads/2022/08/bbsc-logo.png
END:VEVENT
BEGIN:VEVENT
DTSTART;VALUE=DATE:20240427
DTEND;VALUE=DATE:20240428
DTSTAMP:20260422T164843
CREATED:20231217T203643Z
LAST-MODIFIED:20231217T203643Z
UID:10000306-1714176000-1714262399@coloradotriathlete.com
SUMMARY:NOCO Half Marathon & 10K
DESCRIPTION:Spring is the season of renewal and running. We hope you join us for a fun adventure that embodies the spirit of springtime at the beautiful Boyd Lake State Park! \nChoose from the Half Marathon (13.1 mile) or 10K (6.2 mile) for your run adventure. This course is on smooth paved walkways with about three quarters of a mile being off road. Beautiful lake and wildlife views and fun post race festivities. Did we mention almost no elevation gain? This is one flat course making sure you’ll set a new PR or enjoy a fun steady-paced morning run race
URL:https://coloradotriathlete.com/event/noco-half-marathon-10k-2/
LOCATION:Boyd Lake State Park (Loveland)\, 3720 N County Road 11-C\, Loveland\, CO\, 80538\, United States
CATEGORIES:10 KM,Half Marathon
ATTACH;FMTTYPE=image/png:https://coloradotriathlete.com/wp-content/uploads/2022/08/noco-half-marathon-10k-logo-sized-300x300-1.png
END:VEVENT
BEGIN:VEVENT
DTSTART;VALUE=DATE:20240218
DTEND;VALUE=DATE:20240219
DTSTAMP:20260422T164843
CREATED:20231217T204051Z
LAST-MODIFIED:20231217T204051Z
UID:10000308-1708214400-1708300799@coloradotriathlete.com
SUMMARY:Ralston Creek Half-Marathon & 5K
DESCRIPTION:The Ralston Creek Half-Marathon & 5K has become Colorado’s premier winter half marathon! \nFinisher Medals for Half Marathon finishers and a generous 4:30 cutoff time. \nCourses follow a scenic mix of road and bike path through Arvada’s beautiful west side. Long-Sleeve Gender-Specific Tech Shirts\, hot cocoa\, breakfast burritos from El Senor Sol Mexican restaurant\, and free race photos.
URL:https://coloradotriathlete.com/event/ralston-creek-half-marathon-5k-2/
LOCATION:Arvada\, Arvada\, CO\, United States
CATEGORIES:5 KM,Half Marathon,Run
ATTACH;FMTTYPE=image/jpeg:https://coloradotriathlete.com/wp-content/uploads/2022/10/Ralston-Creek-Half.jpg
END:VEVENT
BEGIN:VEVENT
DTSTART;VALUE=DATE:20240128
DTEND;VALUE=DATE:20240129
DTSTAMP:20260422T164843
CREATED:20231217T204159Z
LAST-MODIFIED:20231217T204159Z
UID:10000309-1706400000-1706486399@coloradotriathlete.com
SUMMARY:Yeti Chase 5K & 10K
DESCRIPTION:The Yeti Chase 5K & 10K take place at beautiful Bear Creek Lake Park in Lakewood. This is the 13th year for the Yeti Chase\, and it has sold out well before race day in all previous years. \nAfter chasing down the Yeti\, runners wander the park’s 2\,500 acres\, known for it’s diverse bird and waterfowl population as well as stunning views of the foothills. Quality Long Sleeve gender-specific technical running shirts\, hot cocoa\, and a personal video of your race finish! \nGet your photo taken with the Summit Cove Yeti and you could win a free summer stay at one of the beautiful Summit Cove properties in Keystone!
URL:https://coloradotriathlete.com/event/yeti-chase-5k-10k-2/
LOCATION:Bear Creek Lake Park (Lakewood)\, 15600 W. Morrison Road\, Lakewood\, CO\, 80228\, United States
CATEGORIES:10 KM,5 KM,Run
ATTACH;FMTTYPE=image/jpeg:https://coloradotriathlete.com/wp-content/uploads/2022/10/Yeti-Chase.jpg
END:VEVENT
BEGIN:VEVENT
DTSTART;VALUE=DATE:20230916
DTEND;VALUE=DATE:20230917
DTSTAMP:20260422T164843
CREATED:20230228T012607Z
LAST-MODIFIED:20230228T012607Z
UID:10000266-1694822400-1694908799@coloradotriathlete.com
SUMMARY:Run the Rockies Road 10K & Half Marathon
DESCRIPTION:The Run the Rockies Road 10k and Half Marathon will feature the traditional Run the Rockies Road Race course with runners starting near Copper Mountain; runners will follow the paved recreation path through the Ten Mile Canyon. The 10k course is 100% downhill and the half marathon course is 75% downhill. This course will showcase the beautiful fall colors in Frisco!
URL:https://coloradotriathlete.com/event/run-the-rockies-road-10k-half-marathon-2023/
LOCATION:Frisco\, Frisco\, CO\, United States
CATEGORIES:10 KM,Half Marathon,Run
ATTACH;FMTTYPE=image/png:https://coloradotriathlete.com/wp-content/uploads/2022/08/Frisco.png
END:VEVENT
BEGIN:VEVENT
DTSTART;VALUE=DATE:20230826
DTEND;VALUE=DATE:20230827
DTSTAMP:20260422T164843
CREATED:20230228T011914Z
LAST-MODIFIED:20230228T011914Z
UID:10000260-1693008000-1693094399@coloradotriathlete.com
SUMMARY:Boulder Sunset Triathlon
DESCRIPTION:Join us for an unforgettable morning at the Boulder Reservoir. Although this race does not take place at sunset\, it will take place at the end of the summer– it’s sister race is the Boulder Sunrise in June. Experience gorgeous views at the recently upgraded venue. All participants receive stellar race shirts and finisher medals\, too. This race is a favorite for beginners due to the flat bike course and a packed dirt trail run course.
URL:https://coloradotriathlete.com/event/boulder-sunset-triathlon-2023/
LOCATION:Boulder Reservoir\, 5275 Reservoir Road\, Boulder\, CO\, 80301\, United States
CATEGORIES:Olympic Distance,Run,Triathlon
ATTACH;FMTTYPE=image/png:https://coloradotriathlete.com/wp-content/uploads/2022/08/bbsc-logo.png
END:VEVENT
BEGIN:VEVENT
DTSTART;VALUE=DATE:20230812
DTEND;VALUE=DATE:20230813
DTSTAMP:20260422T164843
CREATED:20230228T012526Z
LAST-MODIFIED:20230228T012526Z
UID:10000265-1691798400-1691884799@coloradotriathlete.com
SUMMARY:Run the Rockies Trail 10K & Half Marathon
DESCRIPTION:The Run the Rockies Trail 10k and Half Marathon will lead runners through the Frisco Peninsula trails with breathtaking views of Lake Dillon and the Ten Mile Range. This is a great course for a first time half-marathoner or runner looking for a fun course that offers single track and dirt road trails. Racers will start and finish at the Frisco Nordic Center.
URL:https://coloradotriathlete.com/event/run-the-rockies-trail-10k-half-marathon-2023/
LOCATION:Frisco Nordic Center\, 616 Recreation Way\, Frisco\, CO\, United States
CATEGORIES:10 KM,Half Marathon,Run,Trail Run
ATTACH;FMTTYPE=image/png:https://coloradotriathlete.com/wp-content/uploads/2022/08/Frisco.png
END:VEVENT
BEGIN:VEVENT
DTSTART;VALUE=DATE:20230812
DTEND;VALUE=DATE:20230813
DTSTAMP:20260422T164843
CREATED:20230228T011839Z
LAST-MODIFIED:20230228T011839Z
UID:10000259-1691798400-1691884799@coloradotriathlete.com
SUMMARY:Boulder Rez Marathon
DESCRIPTION:This amazing run course will take you alongside the Boulder Reservoir\, remaining mostly on dirt roads and trails. The course is flat with only 200 feet of gain\, and will provide views of the Boulder Reservoir and Rocky Mountains. \nMarathon\, 3/4 Marathon\, Half Marathon\, 10K\, Relay
URL:https://coloradotriathlete.com/event/boulder-rez-marathon-2023/
LOCATION:Boulder Reservoir\, 5275 Reservoir Road\, Boulder\, CO\, 80301\, United States
CATEGORIES:10 KM,Half Marathon,Marathon,Run
ATTACH;FMTTYPE=image/png:https://coloradotriathlete.com/wp-content/uploads/2022/08/bbsc-logo.png
END:VEVENT
BEGIN:VEVENT
DTSTART;VALUE=DATE:20230716
DTEND;VALUE=DATE:20230717
DTSTAMP:20260422T164843
CREATED:20230326T200044Z
LAST-MODIFIED:20230326T200129Z
UID:10000269-1689465600-1689551999@coloradotriathlete.com
SUMMARY:Donor Dash 5K
DESCRIPTION:
URL:https://coloradotriathlete.com/event/donor-dash-5k/
LOCATION:Washington Park\, Denver\, S. Downing St. and E. Louisiana Ave.\, Denver\, CO\, 80210\, United States
CATEGORIES:5 KM,Run
ATTACH;FMTTYPE=image/jpeg:https://coloradotriathlete.com/wp-content/uploads/2023/03/DonorDash.jpg
END:VEVENT
BEGIN:VEVENT
DTSTART;VALUE=DATE:20230714
DTEND;VALUE=DATE:20230715
DTSTAMP:20260422T164843
CREATED:20230228T012006Z
LAST-MODIFIED:20230228T012006Z
UID:10000261-1689292800-1689379199@coloradotriathlete.com
SUMMARY:Frisco Triathlon
DESCRIPTION:Are you looking for a new challenge this summer? Register for the 8th Annual Frisco Triathlon featuring stand-up-paddle boarding\, mountain biking\, and trail running. This twist on a triathlon is open to all ability levels and encourages athletes to take on a new multi-sport event. The Frisco Triathlon was named “Best Triathlon” in Elevation Outdoors Magazine’s reader poll\, 2016 Best of the Rockies. \nThe Frisco Triathlon will be held on a Friday; with the volume of people we see at the Frisco Bay Marina on the weekends\, we feel that we can provide the best racer experience\, as well as provide a safe environment for other Marina guests by holding the race to a Friday.
URL:https://coloradotriathlete.com/event/frisco-triathlon-2023/
LOCATION:Frisco Bay Marina\, 267 Marina Road\, Frisco\, CO\, 80443\, United States
CATEGORIES:Off-Road,SUP Triathlon,Trail Run,Triathlon
ATTACH;FMTTYPE=image/png:https://coloradotriathlete.com/wp-content/uploads/2022/08/Frisco.png
END:VEVENT
BEGIN:VEVENT
DTSTART;VALUE=DATE:20230701
DTEND;VALUE=DATE:20230702
DTSTAMP:20260422T164843
CREATED:20230228T010303Z
LAST-MODIFIED:20230228T010303Z
UID:10000249-1688169600-1688255999@coloradotriathlete.com
SUMMARY:Timberview Trail Run
DESCRIPTION:Crisp morning air and a summer sunrise in Colorado. YES PLEASE! Join us on the foothills at Lory State Park for a fun & beautiful morning trail race. \nThis run race features three distances (a 10 mile\, a 5 mile and a 5K) that are great for just about any level athlete at any age. Run on a beautiful & scenic course among the treetops with views of Horsetooth reservoir\, Fort Collins & the foothills. Bring the kiddos too as the 5K route is very beginner friendly.
URL:https://coloradotriathlete.com/event/timberview-trail-run-2023/
LOCATION:Lory State Park (Fort Collins)\, 708 Lodgepole Drive\, Bellvue\, CO\, 80512\, United States
CATEGORIES:Run,Trail Run
ATTACH;FMTTYPE=image/jpeg:https://coloradotriathlete.com/wp-content/uploads/2022/08/timberview-trail-run-logo-2-300x296-1.jpg
END:VEVENT
BEGIN:VEVENT
DTSTART;VALUE=DATE:20230625
DTEND;VALUE=DATE:20230626
DTSTAMP:20260422T164843
CREATED:20230228T011548Z
LAST-MODIFIED:20230228T011548Z
UID:10000256-1687651200-1687737599@coloradotriathlete.com
SUMMARY:Boulder Sunrise Triathlon
DESCRIPTION:Kick off your summer of racing in Boulder.
URL:https://coloradotriathlete.com/event/boulder-sunrise-triathlon-2023/
LOCATION:Boulder Reservoir\, 5275 Reservoir Road\, Boulder\, CO\, 80301\, United States
CATEGORIES:Aquabike,Duathlon,Olympic Distance,Run,Sprint Distance,Triathlon
ATTACH;FMTTYPE=image/png:https://coloradotriathlete.com/wp-content/uploads/2022/08/bbsc-logo.png
END:VEVENT
BEGIN:VEVENT
DTSTART;VALUE=DATE:20230523
DTEND;VALUE=DATE:20230524
DTSTAMP:20260422T164843
CREATED:20230228T003638Z
LAST-MODIFIED:20230228T003638Z
UID:10000239-1684800000-1684886399@coloradotriathlete.com
SUMMARY:Dash & Dine 5K
DESCRIPTION:The Dash & Dine 5k run\, Boulder’s favorite spring tune-up run series at the beautiful Boulder Reservoir in Boulder\, CO.
URL:https://coloradotriathlete.com/event/dash-dine-5k-2023-05-23/
CATEGORIES:5 KM,Run
ATTACH;FMTTYPE=image/jpeg:https://coloradotriathlete.com/wp-content/uploads/2022/08/Dash-Dine.jpg
END:VEVENT
BEGIN:VEVENT
DTSTART;VALUE=DATE:20230521
DTEND;VALUE=DATE:20230522
DTSTAMP:20260422T164843
CREATED:20220803T132418Z
LAST-MODIFIED:20220803T132418Z
UID:10000156-1684627200-1684713599@coloradotriathlete.com
SUMMARY:NOCO Half Marathon & 10K
DESCRIPTION:Spring is the season of renewal and running. We hope you join us for a fun adventure that embodies the spirit of springtime at the beautiful Boyd Lake State Park! \nChoose from the Half Marathon (13.1 mile) or 10K (6.2 mile) for your run adventure. This course is on smooth paved walkways with about three quarters of a mile being off road. Beautiful lake and wildlife views and fun post race festivities. Did we mention almost no elevation gain? This is one flat course making sure you’ll set a new PR or enjoy a fun steady-paced morning run race
URL:https://coloradotriathlete.com/event/noco-half-marathon-10k/
LOCATION:Boyd Lake State Park (Loveland)\, 3720 N County Road 11-C\, Loveland\, CO\, 80538\, United States
CATEGORIES:10 KM,Half Marathon
ATTACH;FMTTYPE=image/png:https://coloradotriathlete.com/wp-content/uploads/2022/08/noco-half-marathon-10k-logo-sized-300x300-1.png
END:VEVENT
BEGIN:VEVENT
DTSTART;VALUE=DATE:20230516
DTEND;VALUE=DATE:20230517
DTSTAMP:20260422T164843
CREATED:20230228T003612Z
LAST-MODIFIED:20230228T003612Z
UID:10000238-1684195200-1684281599@coloradotriathlete.com
SUMMARY:Dash & Dine 5K
DESCRIPTION:The Dash & Dine 5k run\, Boulder’s favorite spring tune-up run series at the beautiful Boulder Reservoir in Boulder\, CO.
URL:https://coloradotriathlete.com/event/dash-dine-5k-2023-05-16/
CATEGORIES:5 KM,Run
ATTACH;FMTTYPE=image/jpeg:https://coloradotriathlete.com/wp-content/uploads/2022/08/Dash-Dine.jpg
END:VEVENT
BEGIN:VEVENT
DTSTART;VALUE=DATE:20230509
DTEND;VALUE=DATE:20230510
DTSTAMP:20260422T164843
CREATED:20230228T003157Z
LAST-MODIFIED:20230228T003157Z
UID:10000236-1683590400-1683676799@coloradotriathlete.com
SUMMARY:Dash & Dine 5K
DESCRIPTION:The Dash & Dine 5k run\, Boulder’s favorite spring tune-up run series at the beautiful Boulder Reservoir in Boulder\, CO.
URL:https://coloradotriathlete.com/event/dash-dine-5k-20123-05-09/
CATEGORIES:5 KM,Run
ATTACH;FMTTYPE=image/jpeg:https://coloradotriathlete.com/wp-content/uploads/2022/08/Dash-Dine.jpg
END:VEVENT
BEGIN:VEVENT
DTSTART;VALUE=DATE:20230502
DTEND;VALUE=DATE:20230503
DTSTAMP:20260422T164843
CREATED:20230228T003246Z
LAST-MODIFIED:20230228T003246Z
UID:10000237-1682985600-1683071999@coloradotriathlete.com
SUMMARY:Dash & Dine 5K
DESCRIPTION:The Dash & Dine 5k run\, Boulder’s favorite spring tune-up run series at the beautiful Boulder Reservoir in Boulder\, CO.
URL:https://coloradotriathlete.com/event/dash-dine-5k-2023-05-02/
CATEGORIES:5 KM,Run
ATTACH;FMTTYPE=image/jpeg:https://coloradotriathlete.com/wp-content/uploads/2022/08/Dash-Dine.jpg
END:VEVENT
BEGIN:VEVENT
DTSTART;VALUE=DATE:20230415
DTEND;VALUE=DATE:20230416
DTSTAMP:20260422T164843
CREATED:20230228T011640Z
LAST-MODIFIED:20230228T011640Z
UID:10000257-1681516800-1681603199@coloradotriathlete.com
SUMMARY:Boulder Rez Half Marathon
DESCRIPTION:Half Marathon\, 10K\, 5K\, Relay
URL:https://coloradotriathlete.com/event/boulder-rez-half-marathon-2023/
LOCATION:Boulder Reservoir\, 5275 Reservoir Road\, Boulder\, CO\, 80301\, United States
CATEGORIES:10 KM,5 KM,Run
ATTACH;FMTTYPE=image/png:https://coloradotriathlete.com/wp-content/uploads/2022/08/bbsc-logo.png
END:VEVENT
END:VCALENDAR