BEGIN:VCALENDAR
VERSION:2.0
PRODID:-//Colorado Triathlete - ECPv6.15.16//NONSGML v1.0//EN
CALSCALE:GREGORIAN
METHOD:PUBLISH
X-ORIGINAL-URL:https://coloradotriathlete.com
X-WR-CALDESC:Events for Colorado Triathlete
REFRESH-INTERVAL;VALUE=DURATION:PT1H
X-Robots-Tag:noindex
X-PUBLISHED-TTL:PT1H
BEGIN:VTIMEZONE
TZID:America/Denver
BEGIN:DAYLIGHT
TZOFFSETFROM:-0700
TZOFFSETTO:-0600
TZNAME:MDT
DTSTART:20210314T090000
END:DAYLIGHT
BEGIN:STANDARD
TZOFFSETFROM:-0600
TZOFFSETTO:-0700
TZNAME:MST
DTSTART:20211107T080000
END:STANDARD
BEGIN:DAYLIGHT
TZOFFSETFROM:-0700
TZOFFSETTO:-0600
TZNAME:MDT
DTSTART:20220313T090000
END:DAYLIGHT
BEGIN:STANDARD
TZOFFSETFROM:-0600
TZOFFSETTO:-0700
TZNAME:MST
DTSTART:20221106T080000
END:STANDARD
BEGIN:DAYLIGHT
TZOFFSETFROM:-0700
TZOFFSETTO:-0600
TZNAME:MDT
DTSTART:20230312T090000
END:DAYLIGHT
BEGIN:STANDARD
TZOFFSETFROM:-0600
TZOFFSETTO:-0700
TZNAME:MST
DTSTART:20231105T080000
END:STANDARD
END:VTIMEZONE
BEGIN:VEVENT
DTSTART;VALUE=DATE:20220917
DTEND;VALUE=DATE:20220918
DTSTAMP:20260422T212213
CREATED:20220809T194756Z
LAST-MODIFIED:20220809T194756Z
UID:10000174-1663372800-1663459199@coloradotriathlete.com
SUMMARY:Pikes Peak Ascent
DESCRIPTION:The Pikes Peak Marathon\, founded in 1956\, is the oldest continually held marathon in the United States\, taking runners from Manitou Springs\, Colorado\, to the summit of Pikes Peak at 14\,115 feet\, and back down for a total of 26.2 grueling mountain miles. It and its sister race\, the Pikes Peak Ascent\, each climb about 7\,800 vertical feet up the historic Barr Trail on the east face of the mountain. The Ascent\, which climbs 13.3 miles to finish at the summit\, used to be held on the same day as the Marathon but became its own event in the 1980s due to its popularity.
URL:https://coloradotriathlete.com/event/pikes-peak-ascent/
LOCATION:Manitou Springs\, Manitou Springs\, CO\, United States
CATEGORIES:Half Marathon,Run,Trail Run
ATTACH;FMTTYPE=image/png:https://coloradotriathlete.com/wp-content/uploads/2022/08/Pikes-Peak-Marathon.png
END:VEVENT
BEGIN:VEVENT
DTSTART;VALUE=DATE:20220917
DTEND;VALUE=DATE:20220918
DTSTAMP:20260422T212213
CREATED:20220803T195707Z
LAST-MODIFIED:20220803T195707Z
UID:10000165-1663372800-1663459199@coloradotriathlete.com
SUMMARY:Run the Rockies Road 10K & Half Marathon
DESCRIPTION:The Run the Rockies Road 10k and Half Marathon will feature the traditional Run the Rockies Road Race course with runners starting near Copper Mountain; runners will follow the paved recreation path through the Ten Mile Canyon. The 10k course is 100% downhill and the half marathon course is 75% downhill. This course will showcase the beautiful fall colors in Frisco!
URL:https://coloradotriathlete.com/event/run-the-rockies-road-10k-half-marathon/
LOCATION:Frisco\, Frisco\, CO\, United States
CATEGORIES:10 KM,Half Marathon,Run
ATTACH;FMTTYPE=image/png:https://coloradotriathlete.com/wp-content/uploads/2022/08/Frisco.png
END:VEVENT
BEGIN:VEVENT
DTSTART;VALUE=DATE:20220827
DTEND;VALUE=DATE:20220829
DTSTAMP:20260422T212213
CREATED:20220803T193934Z
LAST-MODIFIED:20220803T193934Z
UID:10000096-1661558400-1661731199@coloradotriathlete.com
SUMMARY:XTERRA Tremblant
DESCRIPTION:Welcome to XTERRA Tremblant. This will be year three of this amazing off-road event in the heart of Quebec’s triathlon mecca. The venue is a unique ecological preserve that is transformed for one weekend only every year into an off-road triathlon getaway.
URL:https://coloradotriathlete.com/event/xterra-tremblant/
LOCATION:Domain St-Bernard\, Quebec\, Canada\, Domain St-Bernard\, Quebec\, Canada
CATEGORIES:Duathlon,Off-Road,Run,Sprint Distance,Trail Run,Triathlon
ATTACH;FMTTYPE=image/jpeg:https://coloradotriathlete.com/wp-content/uploads/2013/07/xterra1.jpg
END:VEVENT
BEGIN:VEVENT
DTSTART;VALUE=DATE:20220827
DTEND;VALUE=DATE:20220828
DTSTAMP:20260422T212213
CREATED:20220802T225853Z
LAST-MODIFIED:20220803T021126Z
UID:10000113-1661558400-1661644799@coloradotriathlete.com
SUMMARY:Boulder Sunset Triathlon
DESCRIPTION:Join us for an unforgettable morning at the Boulder Reservoir. Although this race does not take place at sunset\, it will take place at the end of the summer– it’s sister race is the Boulder Sunrise in June. Experience gorgeous views at the recently upgraded venue. All participants receive stellar race shirts and finisher medals\, too. This race is a favorite for beginners due to the flat bike course and a packed dirt trail run course.
URL:https://coloradotriathlete.com/event/boulder-sunset-triathlon/
LOCATION:Boulder Reservoir\, 5275 Reservoir Road\, Boulder\, CO\, 80301\, United States
CATEGORIES:Olympic Distance,Run,Triathlon
ATTACH;FMTTYPE=image/png:https://coloradotriathlete.com/wp-content/uploads/2022/08/bbsc-logo.png
END:VEVENT
BEGIN:VEVENT
DTSTART;VALUE=DATE:20220821
DTEND;VALUE=DATE:20220822
DTSTAMP:20260422T212213
CREATED:20220803T193610Z
LAST-MODIFIED:20220803T193610Z
UID:10000095-1661040000-1661126399@coloradotriathlete.com
SUMMARY:XTERRA Lake Tahoe
DESCRIPTION:An all-time classic off-road triathlon course! Triathletes will start from a new location at Sand Harbor State Park in Lake Tahoe\, one of the purest and deepest lakes in North America. Trail Runs take place on the same day with the course starting and finishing at the Village Green in Incline Village\, NV. \n26 World Champ Slots \nFull & Sprint Triathlons \n5K & 10K Trail Runs
URL:https://coloradotriathlete.com/event/xterra-lake-tahoe/
LOCATION:Lake Tahoe\, California\, Lake Tahoe\, CA\, United States
CATEGORIES:Aquabike,Off-Road,Run,Sprint Distance,Trail Run,Triathlon,XTERRA
ATTACH;FMTTYPE=image/jpeg:https://coloradotriathlete.com/wp-content/uploads/2013/07/xterra1.jpg
END:VEVENT
BEGIN:VEVENT
DTSTART;VALUE=DATE:20220813
DTEND;VALUE=DATE:20220814
DTSTAMP:20260422T212213
CREATED:20220803T195034Z
LAST-MODIFIED:20220803T195034Z
UID:10000098-1660348800-1660435199@coloradotriathlete.com
SUMMARY:Run the Rockies Trail 10K & Half Marathon
DESCRIPTION:The Run the Rockies Trail 10k and Half Marathon will lead runners through the Frisco Peninsula trails with breathtaking views of Lake Dillon and the Ten Mile Range. This is a great course for a first time half-marathoner or runner looking for a fun course that offers single track and dirt road trails. Racers will start and finish at the Frisco Nordic Center.
URL:https://coloradotriathlete.com/event/run-the-rockies-trail-10k-half-marathon/
LOCATION:Frisco Nordic Center\, 616 Recreation Way\, Frisco\, CO\, United States
CATEGORIES:10 KM,Half Marathon,Run,Trail Run
ATTACH;FMTTYPE=image/png:https://coloradotriathlete.com/wp-content/uploads/2022/08/Frisco.png
END:VEVENT
BEGIN:VEVENT
DTSTART;VALUE=DATE:20220813
DTEND;VALUE=DATE:20220814
DTSTAMP:20260422T212213
CREATED:20220803T131911Z
LAST-MODIFIED:20230228T010237Z
UID:10000155-1660348800-1660435199@coloradotriathlete.com
SUMMARY:Timberview Trail Run
DESCRIPTION:Crisp morning air and a summer sunrise in Colorado. YES PLEASE! Join us on the foothills at Lory State Park for a fun & beautiful morning trail race. \nThis run race features three distances (a 10 mile\, a 5 mile and a 5K) that are great for just about any level athlete at any age. Run on a beautiful & scenic course among the treetops with views of Horsetooth reservoir\, Fort Collins & the foothills. Bring the kiddos too as the 5K route is very beginner friendly.
URL:https://coloradotriathlete.com/event/timberview-trail-run/
LOCATION:Lory State Park (Fort Collins)\, 708 Lodgepole Drive\, Bellvue\, CO\, 80512\, United States
CATEGORIES:Run,Trail Run
ATTACH;FMTTYPE=image/jpeg:https://coloradotriathlete.com/wp-content/uploads/2022/08/timberview-trail-run-logo-2-300x296-1.jpg
END:VEVENT
BEGIN:VEVENT
DTSTART;VALUE=DATE:20220813
DTEND;VALUE=DATE:20220814
DTSTAMP:20260422T212213
CREATED:20220802T222447Z
LAST-MODIFIED:20220803T130205Z
UID:10000111-1660348800-1660435199@coloradotriathlete.com
SUMMARY:Boulder Rez Marathon
DESCRIPTION:This amazing run course will take you alongside the Boulder Reservoir\, remaining mostly on dirt roads and trails. The course is flat with only 200 feet of gain\, and will provide views of the Boulder Reservoir and Rocky Mountains. \nMarathon\, 3/4 Marathon\, Half Marathon\, 10K\, Relay
URL:https://coloradotriathlete.com/event/boulder-rez-marathon/
LOCATION:Boulder Reservoir\, 5275 Reservoir Road\, Boulder\, CO\, 80301\, United States
CATEGORIES:10 KM,Half Marathon,Marathon,Run
ATTACH;FMTTYPE=image/png:https://coloradotriathlete.com/wp-content/uploads/2022/08/bbsc-logo.png
END:VEVENT
BEGIN:VEVENT
DTSTART;VALUE=DATE:20220708
DTEND;VALUE=DATE:20220709
DTSTAMP:20260422T212213
CREATED:20220803T195451Z
LAST-MODIFIED:20220803T195451Z
UID:10000099-1657238400-1657324799@coloradotriathlete.com
SUMMARY:Frisco Triathlon
DESCRIPTION:Are you looking for a new challenge this summer? Register for the 8th Annual Frisco Triathlon featuring stand-up-paddle boarding\, mountain biking\, and trail running. This twist on a triathlon is open to all ability levels and encourages athletes to take on a new multi-sport event. The Frisco Triathlon was named “Best Triathlon” in Elevation Outdoors Magazine’s reader poll\, 2016 Best of the Rockies. \nThe Frisco Triathlon will be held on a Friday; with the volume of people we see at the Frisco Bay Marina on the weekends\, we feel that we can provide the best racer experience\, as well as provide a safe environment for other Marina guests by holding the race to a Friday.
URL:https://coloradotriathlete.com/event/frisco-triathlon/
LOCATION:Frisco Bay Marina\, 267 Marina Road\, Frisco\, CO\, 80443\, United States
CATEGORIES:Off-Road,SUP Triathlon,Trail Run,Triathlon
ATTACH;FMTTYPE=image/png:https://coloradotriathlete.com/wp-content/uploads/2022/08/Frisco.png
END:VEVENT
BEGIN:VEVENT
DTSTART;VALUE=DATE:20220626
DTEND;VALUE=DATE:20220627
DTSTAMP:20260422T212213
CREATED:20220803T020528Z
LAST-MODIFIED:20220803T130744Z
UID:10000144-1656201600-1656287999@coloradotriathlete.com
SUMMARY:Boulder Sunrise Triathlon
DESCRIPTION:Kick off your summer of racing in Boulder.
URL:https://coloradotriathlete.com/event/boulder-sunrise-triathlon/
LOCATION:Boulder Reservoir\, 5275 Reservoir Road\, Boulder\, CO\, 80301\, United States
CATEGORIES:Aquabike,Duathlon,Olympic Distance,Run,Sprint Distance,Triathlon
ATTACH;FMTTYPE=image/png:https://coloradotriathlete.com/wp-content/uploads/2022/08/bbsc-logo.png
END:VEVENT
BEGIN:VEVENT
DTSTART;VALUE=DATE:20220611
DTEND;VALUE=DATE:20220612
DTSTAMP:20260422T212213
CREATED:20220803T020659Z
LAST-MODIFIED:20220803T130924Z
UID:10000145-1654905600-1654991999@coloradotriathlete.com
SUMMARY:Boulder Rez Half Marathon
DESCRIPTION:Half Marathon\, 10K\, 5K\, Relay
URL:https://coloradotriathlete.com/event/boulder-rez-half-marathon/
LOCATION:Boulder Reservoir\, 5275 Reservoir Road\, Boulder\, CO\, 80301\, United States
CATEGORIES:10 KM,5 KM,Run
ATTACH;FMTTYPE=image/png:https://coloradotriathlete.com/wp-content/uploads/2022/08/bbsc-logo.png
END:VEVENT
END:VCALENDAR