BEGIN:VCALENDAR
VERSION:2.0
PRODID:-//Colorado Triathlete - ECPv6.15.16//NONSGML v1.0//EN
CALSCALE:GREGORIAN
METHOD:PUBLISH
X-WR-CALNAME:Colorado Triathlete
X-ORIGINAL-URL:https://coloradotriathlete.com
X-WR-CALDESC:Events for Colorado Triathlete
REFRESH-INTERVAL;VALUE=DURATION:PT1H
X-Robots-Tag:noindex
X-PUBLISHED-TTL:PT1H
BEGIN:VTIMEZONE
TZID:America/Denver
BEGIN:DAYLIGHT
TZOFFSETFROM:-0700
TZOFFSETTO:-0600
TZNAME:MDT
DTSTART:20240310T090000
END:DAYLIGHT
BEGIN:STANDARD
TZOFFSETFROM:-0600
TZOFFSETTO:-0700
TZNAME:MST
DTSTART:20241103T080000
END:STANDARD
BEGIN:DAYLIGHT
TZOFFSETFROM:-0700
TZOFFSETTO:-0600
TZNAME:MDT
DTSTART:20250309T090000
END:DAYLIGHT
BEGIN:STANDARD
TZOFFSETFROM:-0600
TZOFFSETTO:-0700
TZNAME:MST
DTSTART:20251102T080000
END:STANDARD
BEGIN:DAYLIGHT
TZOFFSETFROM:-0700
TZOFFSETTO:-0600
TZNAME:MDT
DTSTART:20260308T090000
END:DAYLIGHT
BEGIN:STANDARD
TZOFFSETFROM:-0600
TZOFFSETTO:-0700
TZNAME:MST
DTSTART:20261101T080000
END:STANDARD
END:VTIMEZONE
BEGIN:VEVENT
DTSTART;VALUE=DATE:20250216
DTEND;VALUE=DATE:20250217
DTSTAMP:20260425T081306
CREATED:20241228T210343Z
LAST-MODIFIED:20241228T210343Z
UID:10000348-1739664000-1739750399@coloradotriathlete.com
SUMMARY:USAT Winter Triathlon National Championships
DESCRIPTION:Hosted by The Breckebeiner in Breckenridge\, Colorado.
URL:https://coloradotriathlete.com/event/usat-winter-triathlon-national-championships/
LOCATION:Gold Run Nordic Center\, 200 Clubhouse Drive\, Breckenridge\, CO\, 80424\, United States
CATEGORIES:Cross Country Ski,Winter,Winter Duathlon,Winter Multisport,Winter Triathlon
ATTACH;FMTTYPE=image/png:https://coloradotriathlete.com/wp-content/uploads/2024/12/Breckebeiner.png
END:VEVENT
BEGIN:VEVENT
DTSTART;VALUE=DATE:20250215
DTEND;VALUE=DATE:20250216
DTSTAMP:20260425T081306
CREATED:20241228T210124Z
LAST-MODIFIED:20241228T210253Z
UID:10000347-1739577600-1739663999@coloradotriathlete.com
SUMMARY:USAT Winter Duathlon National Championships
DESCRIPTION:Hosted by The Breckebeiner in Breckenridge\, Colorado.
URL:https://coloradotriathlete.com/event/usat-winter-duathlon-national-championships/
LOCATION:Gold Run Nordic Center\, 200 Clubhouse Drive\, Breckenridge\, CO\, 80424\, United States
CATEGORIES:Cross Country Ski,Winter,Winter Duathlon,Winter Multisport,Winter Triathlon
ATTACH;FMTTYPE=image/png:https://coloradotriathlete.com/wp-content/uploads/2024/12/Breckebeiner.png
END:VEVENT
END:VCALENDAR