BEGIN:VCALENDAR
VERSION:2.0
PRODID:-//Colorado Triathlete - ECPv6.15.16//NONSGML v1.0//EN
CALSCALE:GREGORIAN
METHOD:PUBLISH
X-WR-CALNAME:Colorado Triathlete
X-ORIGINAL-URL:https://coloradotriathlete.com
X-WR-CALDESC:Events for Colorado Triathlete
REFRESH-INTERVAL;VALUE=DURATION:PT1H
X-Robots-Tag:noindex
X-PUBLISHED-TTL:PT1H
BEGIN:VTIMEZONE
TZID:America/Denver
BEGIN:DAYLIGHT
TZOFFSETFROM:-0700
TZOFFSETTO:-0600
TZNAME:MDT
DTSTART:20210314T090000
END:DAYLIGHT
BEGIN:STANDARD
TZOFFSETFROM:-0600
TZOFFSETTO:-0700
TZNAME:MST
DTSTART:20211107T080000
END:STANDARD
BEGIN:DAYLIGHT
TZOFFSETFROM:-0700
TZOFFSETTO:-0600
TZNAME:MDT
DTSTART:20220313T090000
END:DAYLIGHT
BEGIN:STANDARD
TZOFFSETFROM:-0600
TZOFFSETTO:-0700
TZNAME:MST
DTSTART:20221106T080000
END:STANDARD
BEGIN:DAYLIGHT
TZOFFSETFROM:-0700
TZOFFSETTO:-0600
TZNAME:MDT
DTSTART:20230312T090000
END:DAYLIGHT
BEGIN:STANDARD
TZOFFSETFROM:-0600
TZOFFSETTO:-0700
TZNAME:MST
DTSTART:20231105T080000
END:STANDARD
END:VTIMEZONE
BEGIN:VEVENT
DTSTART;VALUE=DATE:20220409
DTEND;VALUE=DATE:20220410
DTSTAMP:20260423T042944
CREATED:20220803T014044Z
LAST-MODIFIED:20220803T014044Z
UID:10000139-1649462400-1649548799@coloradotriathlete.com
SUMMARY:Barkin' Dog Duathlon
DESCRIPTION:Participants can choose from the standard 5K Run\, 34K Bike\, 5K Run event or the short course which challenges participants with a 1.2 Mile Run\, 11 Mile Bike\, 5K Run.
URL:https://coloradotriathlete.com/event/barkin-dog-duathlon/
LOCATION:Cherry Creek State Park\, 4201 South Parker Road\, Aurora\, CO\, 80014\, United States
CATEGORIES:Duathlon
ATTACH;FMTTYPE=image/jpeg:https://coloradotriathlete.com/wp-content/uploads/2022/08/Racing-Underground.jpg
END:VEVENT
BEGIN:VEVENT
DTSTART;VALUE=DATE:20220305
DTEND;VALUE=DATE:20220306
DTSTAMP:20260423T042944
CREATED:20220803T203116Z
LAST-MODIFIED:20220803T203116Z
UID:10000172-1646438400-1646524799@coloradotriathlete.com
SUMMARY:Audi Power of Four Ski Mountaineering
DESCRIPTION:The Audi Power of Four Race Series is a premier endurance race series utilizing the unique and amazing terrain of each of the four Aspen Snowmass mountains. Each race is designed to test the limits and skills of both elite and recreational athletes.
URL:https://coloradotriathlete.com/event/audi-power-of-four-ski-mountaineering/
LOCATION:Aspen Snowmass\, Aspen-Snowmass\, CO\, United States
CATEGORIES:SkiMo,Winter
ATTACH;FMTTYPE=image/jpeg:https://coloradotriathlete.com/wp-content/uploads/2022/08/Aspen-Snowmass.jpg
END:VEVENT
BEGIN:VEVENT
DTSTART;VALUE=DATE:20220219
DTEND;VALUE=DATE:20220220
DTSTAMP:20260423T042944
CREATED:20220803T200649Z
LAST-MODIFIED:20220803T200649Z
UID:10000171-1645228800-1645315199@coloradotriathlete.com
SUMMARY:5th Annual Frisco Freeze Fat Bike Race
DESCRIPTION:Join us for the 5th Annual Frisco Freeze Fat Bike Race at the Frisco Nordic Center. This is your one chance this winter to ride your fat bike on the Frisco Nordic trails and the Frisco Freeze is back in 2022 with an all new course! This fun course showcases amazing views of Buffalo Mountain and the Ten Mile Range.
URL:https://coloradotriathlete.com/event/5th-annual-frisco-freeze-fat-bike-race/
LOCATION:Frisco Nordic Center\, 616 Recreation Way\, Frisco\, CO\, United States
CATEGORIES:Bike,Fat Bike,Winter
ATTACH;FMTTYPE=image/png:https://coloradotriathlete.com/wp-content/uploads/2022/08/Frisco.png
END:VEVENT
BEGIN:VEVENT
DTSTART;VALUE=DATE:20220219
DTEND;VALUE=DATE:20220220
DTSTAMP:20260423T042944
CREATED:20220803T022357Z
LAST-MODIFIED:20220803T022357Z
UID:10000149-1645228800-1645315199@coloradotriathlete.com
SUMMARY:Mt. Taylor Winter Quadrathlon
DESCRIPTION:
URL:https://coloradotriathlete.com/event/mt-taylor-winter-quadrathlon/
LOCATION:CO
CATEGORIES:Winter Multisport
ATTACH;FMTTYPE=image/jpeg:https://coloradotriathlete.com/wp-content/uploads/2022/08/Mt-Taylor-Winter-Quadrathlon.jpg
END:VEVENT
END:VCALENDAR