BEGIN:VCALENDAR
VERSION:2.0
PRODID:-//Colorado Triathlete - ECPv6.15.16//NONSGML v1.0//EN
CALSCALE:GREGORIAN
METHOD:PUBLISH
X-WR-CALNAME:Colorado Triathlete
X-ORIGINAL-URL:https://coloradotriathlete.com
X-WR-CALDESC:Events for Colorado Triathlete
REFRESH-INTERVAL;VALUE=DURATION:PT1H
X-Robots-Tag:noindex
X-PUBLISHED-TTL:PT1H
BEGIN:VTIMEZONE
TZID:America/Denver
BEGIN:DAYLIGHT
TZOFFSETFROM:-0700
TZOFFSETTO:-0600
TZNAME:MDT
DTSTART:20240310T090000
END:DAYLIGHT
BEGIN:STANDARD
TZOFFSETFROM:-0600
TZOFFSETTO:-0700
TZNAME:MST
DTSTART:20241103T080000
END:STANDARD
BEGIN:DAYLIGHT
TZOFFSETFROM:-0700
TZOFFSETTO:-0600
TZNAME:MDT
DTSTART:20250309T090000
END:DAYLIGHT
BEGIN:STANDARD
TZOFFSETFROM:-0600
TZOFFSETTO:-0700
TZNAME:MST
DTSTART:20251102T080000
END:STANDARD
BEGIN:DAYLIGHT
TZOFFSETFROM:-0700
TZOFFSETTO:-0600
TZNAME:MDT
DTSTART:20260308T090000
END:DAYLIGHT
BEGIN:STANDARD
TZOFFSETFROM:-0600
TZOFFSETTO:-0700
TZNAME:MST
DTSTART:20261101T080000
END:STANDARD
END:VTIMEZONE
BEGIN:VEVENT
DTSTART;VALUE=DATE:20250719
DTEND;VALUE=DATE:20250720
DTSTAMP:20260424T152947
CREATED:20241228T205317Z
LAST-MODIFIED:20241228T205317Z
UID:10000337-1752883200-1752969599@coloradotriathlete.com
SUMMARY:Tri Boulder
DESCRIPTION:As one of Colorado’s most popular summer triathlons\, Tri Boulder offers many different multisport race distances\, all in one eventful day! Join us for a full day of racing at the Rez.
URL:https://coloradotriathlete.com/event/tri-boulder-3/
LOCATION:Boulder Reservoir\, 5275 Reservoir Road\, Boulder\, CO\, 80301\, United States
CATEGORIES:Aquabike,Duathlon,Long Course,Olympic Distance,Sprint Distance
ATTACH;FMTTYPE=image/png:https://coloradotriathlete.com/wp-content/uploads/2022/08/bbsc-logo.png
END:VEVENT
BEGIN:VEVENT
DTSTART;VALUE=DATE:20250724
DTEND;VALUE=DATE:20250725
DTSTAMP:20260424T152947
CREATED:20241228T204708Z
LAST-MODIFIED:20241228T204708Z
UID:10000329-1753315200-1753401599@coloradotriathlete.com
SUMMARY:Stroke & Stride
DESCRIPTION:The Boulder Stroke & Stride offers Boulder area athletes a fun 1-lap 750 Meter Swim\, or 2-Lap 1500 Meter swim in Boulder Reservoir\, followed by a 5k run on the reservoir dam on 8 Thursday evenings (plus one Wednesday evening) throughout the summer. Many participants make their open-water swimming debut in the beginner-friendly Stroke & Stride 750 meter event\, while more seasoned athletes get the thrill of starting alongside some of the top athletes in the world in the 1\,500 meter swim. 250-400 participants enjoy the Stroke & Stride every week! Live timing\, great post race food\, beanie for 6-pack entries\, and series prizes are just the beginning!
URL:https://coloradotriathlete.com/event/stroke-stride-25/
LOCATION:Boulder Reservoir\, 5275 Reservoir Road\, Boulder\, CO\, 80301\, United States
CATEGORIES:Aquathlon
ATTACH;FMTTYPE=image/png:https://coloradotriathlete.com/wp-content/uploads/2022/08/Without-Limits-Productions.png
END:VEVENT
BEGIN:VEVENT
DTSTART;VALUE=DATE:20250727
DTEND;VALUE=DATE:20250728
DTSTAMP:20260424T152947
CREATED:20241228T205404Z
LAST-MODIFIED:20241228T205404Z
UID:10000339-1753574400-1753660799@coloradotriathlete.com
SUMMARY:Steamboat Lake Triathlon
DESCRIPTION:After last summer this event instantly became a personal favorite for our staff\, volunteers\, and athletes – come find out why! We couldn’t be more excited about this course\, this lake\, and the overall experience. The swim starts out in the surprisingly warm waters of Steamboat Lake (74 degrees average race temp)\, then athletes transition to the most scenic bike course you’ll ever find. You’re more likely to see a herd of cattle crossing the road than be passed by a vehicle! After a ride through the rolling country-side athletes will transition to a 3.5 mile run course that’s 50% on road\, and 50% on the dirt trails that hug the lakeside. When we tell athletes you’re running through wild flower meadows\, we’re not exaggerating. \nPack the camping gear and make a weekend getaway for your all your friends and family! This year we’re also offering a aquabike\, and stand-up paddle-board division!
URL:https://coloradotriathlete.com/event/steamboat-lake-triathlon-3/
LOCATION:Steamboat Lake State Park\, 61105 County Road 129\, Clark\, CO\, 80428\, United States
CATEGORIES:Aquabike,Sprint Distance,SUP Triathlon,Triathlon
ATTACH;FMTTYPE=image/png:https://coloradotriathlete.com/wp-content/uploads/2022/08/Without-Limits-Productions.png
END:VEVENT
BEGIN:VEVENT
DTSTART;VALUE=DATE:20250731
DTEND;VALUE=DATE:20250801
DTSTAMP:20260424T152947
CREATED:20241228T204725Z
LAST-MODIFIED:20241228T204725Z
UID:10000330-1753920000-1754006399@coloradotriathlete.com
SUMMARY:Stroke & Stride
DESCRIPTION:The Boulder Stroke & Stride offers Boulder area athletes a fun 1-lap 750 Meter Swim\, or 2-Lap 1500 Meter swim in Boulder Reservoir\, followed by a 5k run on the reservoir dam on 8 Thursday evenings (plus one Wednesday evening) throughout the summer. Many participants make their open-water swimming debut in the beginner-friendly Stroke & Stride 750 meter event\, while more seasoned athletes get the thrill of starting alongside some of the top athletes in the world in the 1\,500 meter swim. 250-400 participants enjoy the Stroke & Stride every week! Live timing\, great post race food\, beanie for 6-pack entries\, and series prizes are just the beginning!
URL:https://coloradotriathlete.com/event/stroke-stride-26/
LOCATION:Boulder Reservoir\, 5275 Reservoir Road\, Boulder\, CO\, 80301\, United States
CATEGORIES:Aquathlon
ATTACH;FMTTYPE=image/png:https://coloradotriathlete.com/wp-content/uploads/2022/08/Without-Limits-Productions.png
END:VEVENT
END:VCALENDAR