BEGIN:VCALENDAR
VERSION:2.0
PRODID:-//Colorado Triathlete - ECPv6.15.16//NONSGML v1.0//EN
CALSCALE:GREGORIAN
METHOD:PUBLISH
X-ORIGINAL-URL:https://coloradotriathlete.com
X-WR-CALDESC:Events for Colorado Triathlete
REFRESH-INTERVAL;VALUE=DURATION:PT1H
X-Robots-Tag:noindex
X-PUBLISHED-TTL:PT1H
BEGIN:VTIMEZONE
TZID:America/Denver
BEGIN:DAYLIGHT
TZOFFSETFROM:-0700
TZOFFSETTO:-0600
TZNAME:MDT
DTSTART:20230312T090000
END:DAYLIGHT
BEGIN:STANDARD
TZOFFSETFROM:-0600
TZOFFSETTO:-0700
TZNAME:MST
DTSTART:20231105T080000
END:STANDARD
BEGIN:DAYLIGHT
TZOFFSETFROM:-0700
TZOFFSETTO:-0600
TZNAME:MDT
DTSTART:20240310T090000
END:DAYLIGHT
BEGIN:STANDARD
TZOFFSETFROM:-0600
TZOFFSETTO:-0700
TZNAME:MST
DTSTART:20241103T080000
END:STANDARD
BEGIN:DAYLIGHT
TZOFFSETFROM:-0700
TZOFFSETTO:-0600
TZNAME:MDT
DTSTART:20250309T090000
END:DAYLIGHT
BEGIN:STANDARD
TZOFFSETFROM:-0600
TZOFFSETTO:-0700
TZNAME:MST
DTSTART:20251102T080000
END:STANDARD
END:VTIMEZONE
BEGIN:VEVENT
DTSTART;VALUE=DATE:20240210
DTEND;VALUE=DATE:20240211
DTSTAMP:20260424T201631
CREATED:20231103T221426Z
LAST-MODIFIED:20231103T221426Z
UID:10000294-1707523200-1707609599@coloradotriathlete.com
SUMMARY:Frisco Gold Rush
DESCRIPTION:The Annual Frisco Gold Rush is the longest running Nordic event in Colorado\, and consists of classic and skate races open to skiers of all ages and abilities. Gold Rush is where the past and present come together to celebrate our historical mining heritage and embrace our snowy Nordic culture. \nKIDS 1K FUN SKI \n5K SKATE SKI \n10K SKATE OR CLASSIC \n20K SKATE SKI
URL:https://coloradotriathlete.com/event/frisco-gold-rush-2/
LOCATION:Frisco Nordic Center\, 616 Recreation Way\, Frisco\, CO\, United States
CATEGORIES:Cross Country Ski,Winter
ATTACH;FMTTYPE=image/png:https://coloradotriathlete.com/wp-content/uploads/2022/08/Frisco.png
END:VEVENT
BEGIN:VEVENT
DTSTART;VALUE=DATE:20240210
DTEND;VALUE=DATE:20240211
DTSTAMP:20260424T201631
CREATED:20231217T203941Z
LAST-MODIFIED:20231217T203941Z
UID:10000307-1707523200-1707609599@coloradotriathlete.com
SUMMARY:Audi Power of Four Ski Mountaineering
DESCRIPTION:The Audi Power of Four Race Series is a premier endurance race series utilizing the unique and amazing terrain of each of the four Aspen Snowmass mountains. Each race is designed to test the limits and skills of both elite and recreational athletes.
URL:https://coloradotriathlete.com/event/audi-power-of-four-ski-mountaineering-2/
LOCATION:Aspen Snowmass\, Aspen-Snowmass\, CO\, United States
CATEGORIES:SkiMo,Winter
ATTACH;FMTTYPE=image/jpeg:https://coloradotriathlete.com/wp-content/uploads/2022/08/Aspen-Snowmass.jpg
END:VEVENT
BEGIN:VEVENT
DTSTART;VALUE=DATE:20240217
DTEND;VALUE=DATE:20240218
DTSTAMP:20260424T201631
CREATED:20231103T221309Z
LAST-MODIFIED:20231103T221309Z
UID:10000293-1708128000-1708214399@coloradotriathlete.com
SUMMARY:Mt. Taylor Winter Quadrathlon
DESCRIPTION:
URL:https://coloradotriathlete.com/event/mt-taylor-winter-quadrathlon-2/
LOCATION:CO
CATEGORIES:Winter Multisport
ATTACH;FMTTYPE=image/jpeg:https://coloradotriathlete.com/wp-content/uploads/2022/08/Mt-Taylor-Winter-Quadrathlon.jpg
END:VEVENT
BEGIN:VEVENT
DTSTART;VALUE=DATE:20240217
DTEND;VALUE=DATE:20240218
DTSTAMP:20260424T201631
CREATED:20231103T221508Z
LAST-MODIFIED:20231103T221508Z
UID:10000295-1708128000-1708214399@coloradotriathlete.com
SUMMARY:Frisco Freeze Fat Bike Race
DESCRIPTION:Join us for the Annual Frisco Freeze Fat Bike Race at the Frisco Nordic Center. This is your one chance this winter to ride your fat bike on the Frisco Nordic trails and the Frisco Freeze is back in 2022 with an all new course! This fun course showcases amazing views of Buffalo Mountain and the Ten Mile Range.
URL:https://coloradotriathlete.com/event/frisco-freeze-fat-bike-race/
LOCATION:Frisco Nordic Center\, 616 Recreation Way\, Frisco\, CO\, United States
CATEGORIES:Bike,Fat Bike,Winter
ATTACH;FMTTYPE=image/png:https://coloradotriathlete.com/wp-content/uploads/2022/08/Frisco.png
END:VEVENT
BEGIN:VEVENT
DTSTART;VALUE=DATE:20240218
DTEND;VALUE=DATE:20240219
DTSTAMP:20260424T201631
CREATED:20231217T204051Z
LAST-MODIFIED:20231217T204051Z
UID:10000308-1708214400-1708300799@coloradotriathlete.com
SUMMARY:Ralston Creek Half-Marathon & 5K
DESCRIPTION:The Ralston Creek Half-Marathon & 5K has become Colorado’s premier winter half marathon! \nFinisher Medals for Half Marathon finishers and a generous 4:30 cutoff time. \nCourses follow a scenic mix of road and bike path through Arvada’s beautiful west side. Long-Sleeve Gender-Specific Tech Shirts\, hot cocoa\, breakfast burritos from El Senor Sol Mexican restaurant\, and free race photos.
URL:https://coloradotriathlete.com/event/ralston-creek-half-marathon-5k-2/
LOCATION:Arvada\, Arvada\, CO\, United States
CATEGORIES:5 KM,Half Marathon,Run
ATTACH;FMTTYPE=image/jpeg:https://coloradotriathlete.com/wp-content/uploads/2022/10/Ralston-Creek-Half.jpg
END:VEVENT
BEGIN:VEVENT
DTSTART;VALUE=DATE:20240224
DTEND;VALUE=DATE:20240225
DTSTAMP:20260424T201631
CREATED:20231103T221107Z
LAST-MODIFIED:20231103T221107Z
UID:10000290-1708732800-1708819199@coloradotriathlete.com
SUMMARY:Chilly Cheeks Duathlon Series
DESCRIPTION:Denver’s low key\, low cost multisport winter series!!! \nThe Chilly Cheeks Winter Series is composed of three fun run-bike events at the Cherry Creek Reservoir. We provide a marked and marshaled course\, fast & accurate chip timing\, light refreshments\, and some fun mid-winter competition in the heart of Denver. \nWhen you enter the three race Duathlon Series or Run Series Option by December 17th you will get a pair of Chilly Cheeks Sweat Pants included with your entry! These are perfect for pulling on post-race or for lounging around the house.
URL:https://coloradotriathlete.com/event/chilly-cheeks-duathlon-series-3/
LOCATION:Hobie Park\, 4800 S. Dayton St.\, Greenwood Village\, CO\, 80111\, United States
CATEGORIES:Duathlon
ATTACH;FMTTYPE=image/jpeg:https://coloradotriathlete.com/wp-content/uploads/2022/10/Chilly-Cheeks-Duathlon-Series.jpg
END:VEVENT
END:VCALENDAR