BEGIN:VCALENDAR
VERSION:2.0
PRODID:-//Colorado Triathlete - ECPv6.15.16//NONSGML v1.0//EN
CALSCALE:GREGORIAN
METHOD:PUBLISH
X-WR-CALNAME:Colorado Triathlete
X-ORIGINAL-URL:https://coloradotriathlete.com
X-WR-CALDESC:Events for Colorado Triathlete
REFRESH-INTERVAL;VALUE=DURATION:PT1H
X-Robots-Tag:noindex
X-PUBLISHED-TTL:PT1H
BEGIN:VTIMEZONE
TZID:America/Denver
BEGIN:DAYLIGHT
TZOFFSETFROM:-0700
TZOFFSETTO:-0600
TZNAME:MDT
DTSTART:20230312T090000
END:DAYLIGHT
BEGIN:STANDARD
TZOFFSETFROM:-0600
TZOFFSETTO:-0700
TZNAME:MST
DTSTART:20231105T080000
END:STANDARD
BEGIN:DAYLIGHT
TZOFFSETFROM:-0700
TZOFFSETTO:-0600
TZNAME:MDT
DTSTART:20240310T090000
END:DAYLIGHT
BEGIN:STANDARD
TZOFFSETFROM:-0600
TZOFFSETTO:-0700
TZNAME:MST
DTSTART:20241103T080000
END:STANDARD
BEGIN:DAYLIGHT
TZOFFSETFROM:-0700
TZOFFSETTO:-0600
TZNAME:MDT
DTSTART:20250309T090000
END:DAYLIGHT
BEGIN:STANDARD
TZOFFSETFROM:-0600
TZOFFSETTO:-0700
TZNAME:MST
DTSTART:20251102T080000
END:STANDARD
END:VTIMEZONE
BEGIN:VEVENT
DTSTART;VALUE=DATE:20240601
DTEND;VALUE=DATE:20240602
DTSTAMP:20260424T132118
CREATED:20231103T215948Z
LAST-MODIFIED:20231103T215948Z
UID:10000271-1717200000-1717286399@coloradotriathlete.com
SUMMARY:Colorado Triathlon
DESCRIPTION:Colorado Sprint Triathlon: 750 meter swim\, rolling and fast 17 mile bike\, and finishes with a 3.1 mile run \nColorado Olympic Triathlon: 1500m swim\, 23.5 mile bike\, and a 10k run \nColorado Olympic Duathlon: 5k run\, 23.5 mile bike\, and a 10k run \nColorado Aquabike: Will feature a 1500 meter swim and a 24.8m bike
URL:https://coloradotriathlete.com/event/colorado-triathlon-2/
LOCATION:Boulder Reservoir\, 5275 Reservoir Road\, Boulder\, CO\, 80301\, United States
CATEGORIES:Aquabike,Duathlon,Olympic Distance,Triathlon
ATTACH;FMTTYPE=image/png:https://coloradotriathlete.com/wp-content/uploads/2022/08/Without-Limits-Productions.png
END:VEVENT
BEGIN:VEVENT
DTSTART;VALUE=DATE:20240605
DTEND;VALUE=DATE:20240606
DTSTAMP:20260424T132118
CREATED:20231103T220544Z
LAST-MODIFIED:20231103T220544Z
UID:10000279-1717545600-1717631999@coloradotriathlete.com
SUMMARY:Stroke & Stride
DESCRIPTION:The Boulder Stroke & Stride offers Boulder area athletes a fun 1-lap 750 Meter Swim\, or 2-Lap 1500 Meter swim in Boulder Reservoir\, followed by a 5k run on the reservoir dam on 8 Thursday evenings (plus one Wednesday evening) throughout the summer. Many participants make their open-water swimming debut in the beginner-friendly Stroke & Stride 750 meter event\, while more seasoned athletes get the thrill of starting alongside some of the top athletes in the world in the 1\,500 meter swim. 250-400 participants enjoy the Stroke & Stride every week! Live timing\, great post race food\, beanie for 6-pack entries\, and series prizes are just the beginning!
URL:https://coloradotriathlete.com/event/stroke-stride-10/
LOCATION:Boulder Reservoir\, 5275 Reservoir Road\, Boulder\, CO\, 80301\, United States
CATEGORIES:Aquathlon
ATTACH;FMTTYPE=image/png:https://coloradotriathlete.com/wp-content/uploads/2022/08/Without-Limits-Productions.png
END:VEVENT
BEGIN:VEVENT
DTSTART;VALUE=DATE:20240608
DTEND;VALUE=DATE:20240609
DTSTAMP:20260424T132118
CREATED:20231217T203526Z
LAST-MODIFIED:20231217T203526Z
UID:10000304-1717804800-1717891199@coloradotriathlete.com
SUMMARY:IRONMAN 70.3 Boulder
DESCRIPTION:Presale Registration for 2023 IRONMAN 70.3 Boulder opens at 10am MT on Thursday\, August 4\, 2022.
URL:https://coloradotriathlete.com/event/ironman-70-3-boulder-3/
LOCATION:Boulder Reservoir\, 5275 Reservoir Road\, Boulder\, CO\, 80301\, United States
CATEGORIES:IRONMAN,Long Course,Triathlon
ATTACH;FMTTYPE=image/jpeg:https://coloradotriathlete.com/wp-content/uploads/2022/08/IRONMAN-70.3-Boulder.jpg
END:VEVENT
BEGIN:VEVENT
DTSTART;VALUE=DATE:20240613
DTEND;VALUE=DATE:20240614
DTSTAMP:20260424T132118
CREATED:20231103T220559Z
LAST-MODIFIED:20231103T220559Z
UID:10000280-1718236800-1718323199@coloradotriathlete.com
SUMMARY:Stroke & Stride
DESCRIPTION:The Boulder Stroke & Stride offers Boulder area athletes a fun 1-lap 750 Meter Swim\, or 2-Lap 1500 Meter swim in Boulder Reservoir\, followed by a 5k run on the reservoir dam on 8 Thursday evenings (plus one Wednesday evening) throughout the summer. Many participants make their open-water swimming debut in the beginner-friendly Stroke & Stride 750 meter event\, while more seasoned athletes get the thrill of starting alongside some of the top athletes in the world in the 1\,500 meter swim. 250-400 participants enjoy the Stroke & Stride every week! Live timing\, great post race food\, beanie for 6-pack entries\, and series prizes are just the beginning!
URL:https://coloradotriathlete.com/event/stroke-stride-11/
LOCATION:Boulder Reservoir\, 5275 Reservoir Road\, Boulder\, CO\, 80301\, United States
CATEGORIES:Aquathlon
ATTACH;FMTTYPE=image/png:https://coloradotriathlete.com/wp-content/uploads/2022/08/Without-Limits-Productions.png
END:VEVENT
BEGIN:VEVENT
DTSTART;VALUE=DATE:20240615
DTEND;VALUE=DATE:20240616
DTSTAMP:20260424T132118
CREATED:20231103T220114Z
LAST-MODIFIED:20231103T220114Z
UID:10000272-1718409600-1718495999@coloradotriathlete.com
SUMMARY:XTERRA Lory
DESCRIPTION:XTERRA Lory Triathlon on June 18th is the perfect kick-off to the year for the seasoned off-road triathlete\, or a great opportunity for the road triathlete wanting to try out a mountain bike triathlon for the first time. \nThe XTERRA Lory Triathlon features a 1/2 mile swim in the clear waters of Horsetooth Reservoir (Eltuk Bay)\, it’s one of the most scenic swims in the state with canyon walls on both sides. Then it’s on to a 2-Lap (beginner friendly) 12.2 mile single-track bike over rolling terrain\, and across valley bridges at Lory State Park. Then you’ll get to finish things off with a fun and challenging 4.8 mile (8k) run through the clouds on single-track trails! This is the perfect off-road triathlon for beginners to experts. The course is designed so that anyone can have fun and everyone will be challenged! Entries will be limited to 350 participants\, and we sold out 2011-2021 in early April! \nBACK FOR 2022: Stand Up Paddleboard Option instead of the 1/2 mile swim (you must bring your own SUP)!
URL:https://coloradotriathlete.com/event/xterra-lory-2/
LOCATION:Lory State Park (Fort Collins)\, 708 Lodgepole Drive\, Bellvue\, CO\, 80512\, United States
CATEGORIES:Off-Road,SUP Triathlon,XTERRA
ATTACH;FMTTYPE=image/png:https://coloradotriathlete.com/wp-content/uploads/2022/08/Without-Limits-Productions.png
END:VEVENT
BEGIN:VEVENT
DTSTART;VALUE=DATE:20240620
DTEND;VALUE=DATE:20240621
DTSTAMP:20260424T132118
CREATED:20231103T220616Z
LAST-MODIFIED:20231103T220616Z
UID:10000281-1718841600-1718927999@coloradotriathlete.com
SUMMARY:Stroke & Stride
DESCRIPTION:The Boulder Stroke & Stride offers Boulder area athletes a fun 1-lap 750 Meter Swim\, or 2-Lap 1500 Meter swim in Boulder Reservoir\, followed by a 5k run on the reservoir dam on 8 Thursday evenings (plus one Wednesday evening) throughout the summer. Many participants make their open-water swimming debut in the beginner-friendly Stroke & Stride 750 meter event\, while more seasoned athletes get the thrill of starting alongside some of the top athletes in the world in the 1\,500 meter swim. 250-400 participants enjoy the Stroke & Stride every week! Live timing\, great post race food\, beanie for 6-pack entries\, and series prizes are just the beginning!
URL:https://coloradotriathlete.com/event/stroke-stride-12/
LOCATION:Boulder Reservoir\, 5275 Reservoir Road\, Boulder\, CO\, 80301\, United States
CATEGORIES:Aquathlon
ATTACH;FMTTYPE=image/png:https://coloradotriathlete.com/wp-content/uploads/2022/08/Without-Limits-Productions.png
END:VEVENT
BEGIN:VEVENT
DTSTART;VALUE=DATE:20240622
DTEND;VALUE=DATE:20240623
DTSTAMP:20260424T132118
CREATED:20231217T203436Z
LAST-MODIFIED:20231217T203436Z
UID:10000303-1719014400-1719100799@coloradotriathlete.com
SUMMARY:Loveland Lake to Lake Triathlon
DESCRIPTION:This event provides a beautiful venue. The transition area and lake are near North Lake Park. North Lake Park is a nice setting for competitors and families. It has a children’s train that operates throughout the day and is adjacent to Benson Sculpture Park\, which is the site of Loveland’s annual Sculpture in the Park each August.
URL:https://coloradotriathlete.com/event/loveland-lake-to-lake-triathlon-2/
LOCATION:North Lake Park (Loveland)\, 2750 N. Taft Ave.\, Loveland\, CO\, United States
CATEGORIES:Aquabike,Olympic Distance,Sprint Distance,Triathlon
ATTACH;FMTTYPE=image/png:https://coloradotriathlete.com/wp-content/uploads/2022/06/laketolakelogo.png
END:VEVENT
BEGIN:VEVENT
DTSTART;VALUE=DATE:20240623
DTEND;VALUE=DATE:20240624
DTSTAMP:20260424T132118
CREATED:20231217T203417Z
LAST-MODIFIED:20231217T203417Z
UID:10000302-1719100800-1719187199@coloradotriathlete.com
SUMMARY:Boulder Sunrise Triathlon
DESCRIPTION:Kick off your summer of racing in Boulder.
URL:https://coloradotriathlete.com/event/boulder-sunrise-triathlon-2/
LOCATION:Boulder Reservoir\, 5275 Reservoir Road\, Boulder\, CO\, 80301\, United States
CATEGORIES:Aquabike,Duathlon,Olympic Distance,Run,Sprint Distance,Triathlon
ATTACH;FMTTYPE=image/png:https://coloradotriathlete.com/wp-content/uploads/2022/08/bbsc-logo.png
END:VEVENT
BEGIN:VEVENT
DTSTART;VALUE=DATE:20240627
DTEND;VALUE=DATE:20240628
DTSTAMP:20260424T132118
CREATED:20231103T220629Z
LAST-MODIFIED:20231103T220629Z
UID:10000282-1719446400-1719532799@coloradotriathlete.com
SUMMARY:Stroke & Stride
DESCRIPTION:The Boulder Stroke & Stride offers Boulder area athletes a fun 1-lap 750 Meter Swim\, or 2-Lap 1500 Meter swim in Boulder Reservoir\, followed by a 5k run on the reservoir dam on 8 Thursday evenings (plus one Wednesday evening) throughout the summer. Many participants make their open-water swimming debut in the beginner-friendly Stroke & Stride 750 meter event\, while more seasoned athletes get the thrill of starting alongside some of the top athletes in the world in the 1\,500 meter swim. 250-400 participants enjoy the Stroke & Stride every week! Live timing\, great post race food\, beanie for 6-pack entries\, and series prizes are just the beginning!
URL:https://coloradotriathlete.com/event/stroke-stride-13/
LOCATION:Boulder Reservoir\, 5275 Reservoir Road\, Boulder\, CO\, 80301\, United States
CATEGORIES:Aquathlon
ATTACH;FMTTYPE=image/png:https://coloradotriathlete.com/wp-content/uploads/2022/08/Without-Limits-Productions.png
END:VEVENT
END:VCALENDAR