BEGIN:VCALENDAR
VERSION:2.0
PRODID:-//Colorado Triathlete - ECPv6.15.16//NONSGML v1.0//EN
CALSCALE:GREGORIAN
METHOD:PUBLISH
X-ORIGINAL-URL:https://coloradotriathlete.com
X-WR-CALDESC:Events for Colorado Triathlete
REFRESH-INTERVAL;VALUE=DURATION:PT1H
X-Robots-Tag:noindex
X-PUBLISHED-TTL:PT1H
BEGIN:VTIMEZONE
TZID:America/Denver
BEGIN:DAYLIGHT
TZOFFSETFROM:-0700
TZOFFSETTO:-0600
TZNAME:MDT
DTSTART:20230312T090000
END:DAYLIGHT
BEGIN:STANDARD
TZOFFSETFROM:-0600
TZOFFSETTO:-0700
TZNAME:MST
DTSTART:20231105T080000
END:STANDARD
BEGIN:DAYLIGHT
TZOFFSETFROM:-0700
TZOFFSETTO:-0600
TZNAME:MDT
DTSTART:20240310T090000
END:DAYLIGHT
BEGIN:STANDARD
TZOFFSETFROM:-0600
TZOFFSETTO:-0700
TZNAME:MST
DTSTART:20241103T080000
END:STANDARD
BEGIN:DAYLIGHT
TZOFFSETFROM:-0700
TZOFFSETTO:-0600
TZNAME:MDT
DTSTART:20250309T090000
END:DAYLIGHT
BEGIN:STANDARD
TZOFFSETFROM:-0600
TZOFFSETTO:-0700
TZNAME:MST
DTSTART:20251102T080000
END:STANDARD
END:VTIMEZONE
BEGIN:VEVENT
DTSTART;VALUE=DATE:20240907
DTEND;VALUE=DATE:20240908
DTSTAMP:20260424T091219
CREATED:20231103T221221Z
LAST-MODIFIED:20240104T221633Z
UID:10000292-1725667200-1725753599@coloradotriathlete.com
SUMMARY:Littlefoot Triathlon
DESCRIPTION:Enjoy a fun late season tri at beautiful Bear Creek Lake Park in the Lakewood/Morrison area. Set at the base of the foothills\, the Littlefoot Triathlon starts off with a 750 meter swim in Soda Lake\, with water temps expected to be approximately 70 degrees. Next\, a rolling bike 15K bike ride that covers nearly the entire park\, offering great views throughout! Finish it up with a scenic 5K run on a bike path that winds through the park.
URL:https://coloradotriathlete.com/event/littlefoot-triathlon-2/
LOCATION:Bear Creek Lake Park (Lakewood)\, 15600 W. Morrison Road\, Lakewood\, CO\, 80228\, United States
CATEGORIES:Sprint Distance,Triathlon
ATTACH;FMTTYPE=image/png:https://coloradotriathlete.com/wp-content/uploads/2022/08/Without-Limits-Productions.png
END:VEVENT
BEGIN:VEVENT
DTSTART;VALUE=DATE:20240907
DTEND;VALUE=DATE:20240908
DTSTAMP:20260424T091219
CREATED:20240506T194107Z
LAST-MODIFIED:20240506T194107Z
UID:10000311-1725667200-1725753599@coloradotriathlete.com
SUMMARY:Lake Nighthorse Sprint & Olympic Triathlons
DESCRIPTION:Sprint Distance Triathlon – 750M Swim\, 20km Bike\, 5km Run \nOlympic Distance Triathlon – 1500M Swim\, 40km Bike\, 10km Run
URL:https://coloradotriathlete.com/event/lake-nighthorse-sprint-olympic-triathlons/
LOCATION:Lake Nighthorse\, 1795 C.R. 210\, Durango\, CO\, 81301\, United States
CATEGORIES:Olympic Distance,Sprint Distance,Triathlon
ATTACH;FMTTYPE=image/jpeg:https://coloradotriathlete.com/wp-content/uploads/2024/05/2024-Lake-Nighthorse-Triathlons.jpg
END:VEVENT
BEGIN:VEVENT
DTSTART;VALUE=DATE:20240922
DTEND;VALUE=DATE:20240923
DTSTAMP:20260424T091219
CREATED:20231103T220405Z
LAST-MODIFIED:20231103T220405Z
UID:10000277-1726963200-1727049599@coloradotriathlete.com
SUMMARY:Oktoberfest Sprint Triathlon
DESCRIPTION:The Oktoberfest Sprint Triathlon features a half mile lake swim\, a flat and fast single loop 12.9 mile bike\, and finishes with a 3.1 mile run on a gravel road that hugs the lake. Please see course maps for a full description. Overall this is a beginner friendly course\, and sets up very well for family and friends to spectate right alongside the action. The best part of Union Reservoir is how close the transition area\, start line\, finish line\, expo area\, and parking are to each other!
URL:https://coloradotriathlete.com/event/oktoberfest-sprint-triathlon-2/
LOCATION:Union Reservoir (Longmont)\, 461 County Road 26\, 80504\, United States
CATEGORIES:Sprint Distance,SUP Triathlon,Triathlon
ATTACH;FMTTYPE=image/png:https://coloradotriathlete.com/wp-content/uploads/2022/08/Without-Limits-Productions.png
END:VEVENT
BEGIN:VEVENT
DTSTART;VALUE=DATE:20240922
DTEND;VALUE=DATE:20240923
DTSTAMP:20260424T091219
CREATED:20231217T202250Z
LAST-MODIFIED:20231217T202302Z
UID:10000296-1726963200-1727049599@coloradotriathlete.com
SUMMARY:IRONMAN World Championship - Women's Race
DESCRIPTION:The very best will embark on a 140.6-mile journey that presents the ultimate test of body\, mind and spirit. Through decades of stellar athlete performances\, inspirational participants and emotional memories\, the IRONMAN World Championship has etched a reputation as the pinnacle of the triathlon landscape and an iconic global sporting event.
URL:https://coloradotriathlete.com/event/ironman-world-championship-womens-race/
LOCATION:Nice\, France\, Nice\, France
CATEGORIES:IRONMAN,Long Course,Triathlon
ATTACH;FMTTYPE=image/png:https://coloradotriathlete.com/wp-content/uploads/2022/07/IM23_WC_ThemeLogo_Medal_Full-275x121-1.png
END:VEVENT
BEGIN:VEVENT
DTSTART;VALUE=DATE:20240929
DTEND;VALUE=DATE:20240930
DTSTAMP:20260424T091219
CREATED:20231217T202453Z
LAST-MODIFIED:20231217T202453Z
UID:10000298-1727568000-1727654399@coloradotriathlete.com
SUMMARY:Last Call Triathlon
DESCRIPTION:Yes! I want ONE MORE adventure!! Escape to the lake! The Last Call Triathlon will be an event you’ll look forward to all season long. Why? Beautiful mountain views\, great weather and a family fun venue! Did we mention camping? Yup! There’s that too. Sitting on the east side of Loveland and southeast of Fort Collins\, this close-to-home race day will have a family feel that’s intimate\, fun and uniquely challenging. The course layouts make race morning packed with spectator cheering and multiple athlete flybys. With ON-SITE camping options\, make a weekend out of this event and plan some extra relaxation time.
URL:https://coloradotriathlete.com/event/last-call-triathlon-2/
LOCATION:Boyd Lake State Park (Loveland)\, 3720 N County Road 11-C\, Loveland\, CO\, 80538\, United States
CATEGORIES:Aquabike,Duathlon,Sprint Distance,SUP Triathlon,Triathlon
ATTACH;FMTTYPE=image/png:https://coloradotriathlete.com/wp-content/uploads/2022/08/cropped-breakaway-athletic-events-logo-small.png
END:VEVENT
END:VCALENDAR