BEGIN:VCALENDAR
VERSION:2.0
PRODID:-//Colorado Triathlete - ECPv6.15.16//NONSGML v1.0//EN
CALSCALE:GREGORIAN
METHOD:PUBLISH
X-ORIGINAL-URL:https://coloradotriathlete.com
X-WR-CALDESC:Events for Colorado Triathlete
REFRESH-INTERVAL;VALUE=DURATION:PT1H
X-Robots-Tag:noindex
X-PUBLISHED-TTL:PT1H
BEGIN:VTIMEZONE
TZID:America/Denver
BEGIN:DAYLIGHT
TZOFFSETFROM:-0700
TZOFFSETTO:-0600
TZNAME:MDT
DTSTART:20240310T090000
END:DAYLIGHT
BEGIN:STANDARD
TZOFFSETFROM:-0600
TZOFFSETTO:-0700
TZNAME:MST
DTSTART:20241103T080000
END:STANDARD
BEGIN:DAYLIGHT
TZOFFSETFROM:-0700
TZOFFSETTO:-0600
TZNAME:MDT
DTSTART:20250309T090000
END:DAYLIGHT
BEGIN:STANDARD
TZOFFSETFROM:-0600
TZOFFSETTO:-0700
TZNAME:MST
DTSTART:20251102T080000
END:STANDARD
BEGIN:DAYLIGHT
TZOFFSETFROM:-0700
TZOFFSETTO:-0600
TZNAME:MDT
DTSTART:20260308T090000
END:DAYLIGHT
BEGIN:STANDARD
TZOFFSETFROM:-0600
TZOFFSETTO:-0700
TZNAME:MST
DTSTART:20261101T080000
END:STANDARD
END:VTIMEZONE
BEGIN:VEVENT
DTSTART;VALUE=DATE:20250208
DTEND;VALUE=DATE:20250209
DTSTAMP:20260420T024647
CREATED:20241228T203540Z
LAST-MODIFIED:20241228T203540Z
UID:10000314-1738972800-1739059199@coloradotriathlete.com
SUMMARY:Frisco Gold Rush
DESCRIPTION:The Annual Frisco Gold Rush is the longest running Nordic event in Colorado\, and consists of classic and skate races open to skiers of all ages and abilities. Gold Rush is where the past and present come together to celebrate our historical mining heritage and embrace our snowy Nordic culture. \nKIDS 1K FUN SKI \n5K SKATE SKI \n10K SKATE OR CLASSIC \n20K SKATE SKI
URL:https://coloradotriathlete.com/event/frisco-gold-rush-3/
LOCATION:Frisco Nordic Center\, 616 Recreation Way\, Frisco\, CO\, United States
CATEGORIES:Cross Country Ski,Winter
ATTACH;FMTTYPE=image/png:https://coloradotriathlete.com/wp-content/uploads/2022/08/Frisco.png
END:VEVENT
BEGIN:VEVENT
DTSTART;VALUE=DATE:20250212
DTEND;VALUE=DATE:20250213
DTSTAMP:20260420T024647
CREATED:20241228T203839Z
LAST-MODIFIED:20241228T203839Z
UID:10000318-1739318400-1739404799@coloradotriathlete.com
SUMMARY:Frisco Freeze Fat Bike Race
DESCRIPTION:Join us for the Annual Frisco Freeze Fat Bike Race at the Frisco Nordic Center. This is your one chance this winter to ride your fat bike on the Frisco Nordic trails and the Frisco Freeze is back in 2022 with an all new course! This fun course showcases amazing views of Buffalo Mountain and the Ten Mile Range.
URL:https://coloradotriathlete.com/event/frisco-freeze-fat-bike-race-2/
LOCATION:Frisco Nordic Center\, 616 Recreation Way\, Frisco\, CO\, United States
CATEGORIES:Bike,Fat Bike,Winter
ATTACH;FMTTYPE=image/png:https://coloradotriathlete.com/wp-content/uploads/2022/08/Frisco.png
END:VEVENT
BEGIN:VEVENT
DTSTART;VALUE=DATE:20250215
DTEND;VALUE=DATE:20250216
DTSTAMP:20260420T024647
CREATED:20241228T210124Z
LAST-MODIFIED:20241228T210253Z
UID:10000347-1739577600-1739663999@coloradotriathlete.com
SUMMARY:USAT Winter Duathlon National Championships
DESCRIPTION:Hosted by The Breckebeiner in Breckenridge\, Colorado.
URL:https://coloradotriathlete.com/event/usat-winter-duathlon-national-championships/
LOCATION:Gold Run Nordic Center\, 200 Clubhouse Drive\, Breckenridge\, CO\, 80424\, United States
CATEGORIES:Cross Country Ski,Winter,Winter Duathlon,Winter Multisport,Winter Triathlon
ATTACH;FMTTYPE=image/png:https://coloradotriathlete.com/wp-content/uploads/2024/12/Breckebeiner.png
END:VEVENT
BEGIN:VEVENT
DTSTART;VALUE=DATE:20250215
DTEND;VALUE=DATE:20250216
DTSTAMP:20260420T024647
CREATED:20241228T203743Z
LAST-MODIFIED:20250123T015533Z
UID:10000316-1739577600-1739663999@coloradotriathlete.com
SUMMARY:Mt. Taylor Winter Quadrathlon
DESCRIPTION:The Quad is a 4 sport race up and back down the highest peak in NW New Mexico. Contestants are challenged to bike 13 miles up the steep paved road leading to Mt. Taylor then\, run an additional 5 miles on a snowpacked gravel road before switching to a pair of skis or a splitboard and ascending 2 miles on a groomed trail while gaining 1\,500’ elevation.  Finally\, racers strap on a pair of snowshoes and trek the final mile to the summit of Mt. Taylor; 5\,400’ higher than where they started. Once stopping to catch their breath at the top\, they turn around and brave the 22 mile stretch again to get back to the finish line.
URL:https://coloradotriathlete.com/event/mt-taylor-winter-quadrathlon-3/
LOCATION:Grants\, NM\, Grants\, NM\, United States
CATEGORIES:Winter Multisport
ATTACH;FMTTYPE=image/jpeg:https://coloradotriathlete.com/wp-content/uploads/2022/08/Mt-Taylor-Winter-Quadrathlon.jpg
END:VEVENT
BEGIN:VEVENT
DTSTART;VALUE=DATE:20250216
DTEND;VALUE=DATE:20250217
DTSTAMP:20260420T024647
CREATED:20241228T210343Z
LAST-MODIFIED:20241228T210343Z
UID:10000348-1739664000-1739750399@coloradotriathlete.com
SUMMARY:USAT Winter Triathlon National Championships
DESCRIPTION:Hosted by The Breckebeiner in Breckenridge\, Colorado.
URL:https://coloradotriathlete.com/event/usat-winter-triathlon-national-championships/
LOCATION:Gold Run Nordic Center\, 200 Clubhouse Drive\, Breckenridge\, CO\, 80424\, United States
CATEGORIES:Cross Country Ski,Winter,Winter Duathlon,Winter Multisport,Winter Triathlon
ATTACH;FMTTYPE=image/png:https://coloradotriathlete.com/wp-content/uploads/2024/12/Breckebeiner.png
END:VEVENT
BEGIN:VEVENT
DTSTART;VALUE=DATE:20250216
DTEND;VALUE=DATE:20250217
DTSTAMP:20260420T024647
CREATED:20241228T203917Z
LAST-MODIFIED:20241228T203917Z
UID:10000319-1739664000-1739750399@coloradotriathlete.com
SUMMARY:Ralston Creek Half-Marathon & 5K
DESCRIPTION:The Ralston Creek Half-Marathon & 5K has become Colorado’s premier winter half marathon! \nFinisher Medals for Half Marathon finishers and a generous 4:30 cutoff time. \nCourses follow a scenic mix of road and bike path through Arvada’s beautiful west side. Long-Sleeve Gender-Specific Tech Shirts\, hot cocoa\, breakfast burritos from El Senor Sol Mexican restaurant\, and free race photos.
URL:https://coloradotriathlete.com/event/ralston-creek-half-marathon-5k-3/
LOCATION:Arvada\, Arvada\, CO\, United States
CATEGORIES:5 KM,Half Marathon,Run
ATTACH;FMTTYPE=image/jpeg:https://coloradotriathlete.com/wp-content/uploads/2022/10/Ralston-Creek-Half.jpg
END:VEVENT
BEGIN:VEVENT
DTSTART;VALUE=DATE:20250222
DTEND;VALUE=DATE:20250223
DTSTAMP:20260420T024647
CREATED:20241228T203255Z
LAST-MODIFIED:20241228T203255Z
UID:10000312-1740182400-1740268799@coloradotriathlete.com
SUMMARY:Chilly Cheeks Duathlon Series
DESCRIPTION:Denver’s low key\, low cost multisport winter series!!! \nThe Chilly Cheeks Winter Series is composed of three fun run-bike events at the Cherry Creek Reservoir. We provide a marked and marshaled course\, fast & accurate chip timing\, light refreshments\, and some fun mid-winter competition in the heart of Denver.
URL:https://coloradotriathlete.com/event/chilly-cheeks-duathlon-series-4/
LOCATION:Hobie Park\, 4800 S. Dayton St.\, Greenwood Village\, CO\, 80111\, United States
CATEGORIES:Duathlon
ATTACH;FMTTYPE=image/jpeg:https://coloradotriathlete.com/wp-content/uploads/2022/10/Chilly-Cheeks-Duathlon-Series.jpg
END:VEVENT
BEGIN:VEVENT
DTSTART;VALUE=DATE:20250222
DTEND;VALUE=DATE:20250223
DTSTAMP:20260420T024647
CREATED:20241228T203627Z
LAST-MODIFIED:20241228T203627Z
UID:10000315-1740182400-1740268799@coloradotriathlete.com
SUMMARY:Audi Power of Four Ski Mountaineering
DESCRIPTION:The Audi Power of Four Race Series is a premier endurance race series utilizing the unique and amazing terrain of each of the four Aspen Snowmass mountains. Each race is designed to test the limits and skills of both elite and recreational athletes.
URL:https://coloradotriathlete.com/event/audi-power-of-four-ski-mountaineering-3/
LOCATION:Aspen Snowmass\, Aspen-Snowmass\, CO\, United States
CATEGORIES:SkiMo,Winter
ATTACH;FMTTYPE=image/jpeg:https://coloradotriathlete.com/wp-content/uploads/2022/08/Aspen-Snowmass.jpg
END:VEVENT
END:VCALENDAR