BEGIN:VCALENDAR
VERSION:2.0
PRODID:-//Colorado Triathlete - ECPv6.15.16//NONSGML v1.0//EN
CALSCALE:GREGORIAN
METHOD:PUBLISH
X-ORIGINAL-URL:https://coloradotriathlete.com
X-WR-CALDESC:Events for Colorado Triathlete
REFRESH-INTERVAL;VALUE=DURATION:PT1H
X-Robots-Tag:noindex
X-PUBLISHED-TTL:PT1H
BEGIN:VTIMEZONE
TZID:America/Denver
BEGIN:DAYLIGHT
TZOFFSETFROM:-0700
TZOFFSETTO:-0600
TZNAME:MDT
DTSTART:20240310T090000
END:DAYLIGHT
BEGIN:STANDARD
TZOFFSETFROM:-0600
TZOFFSETTO:-0700
TZNAME:MST
DTSTART:20241103T080000
END:STANDARD
BEGIN:DAYLIGHT
TZOFFSETFROM:-0700
TZOFFSETTO:-0600
TZNAME:MDT
DTSTART:20250309T090000
END:DAYLIGHT
BEGIN:STANDARD
TZOFFSETFROM:-0600
TZOFFSETTO:-0700
TZNAME:MST
DTSTART:20251102T080000
END:STANDARD
BEGIN:DAYLIGHT
TZOFFSETFROM:-0700
TZOFFSETTO:-0600
TZNAME:MDT
DTSTART:20260308T090000
END:DAYLIGHT
BEGIN:STANDARD
TZOFFSETFROM:-0600
TZOFFSETTO:-0700
TZNAME:MST
DTSTART:20261101T080000
END:STANDARD
END:VTIMEZONE
BEGIN:VEVENT
DTSTART;VALUE=DATE:20250510
DTEND;VALUE=DATE:20250511
DTSTAMP:20260419T071645
CREATED:20241228T204316Z
LAST-MODIFIED:20241228T204316Z
UID:10000321-1746835200-1746921599@coloradotriathlete.com
SUMMARY:Ordinary Mortals Triathlon
DESCRIPTION:Ordinary Mortals Triathlon (OMT) is a reverse order sprint distance (5 km run\, 12.5-mile bike\, 300-yard pool swim) triathlon for all us “Ordinary Mortals” – from the first time triathlete to more competitive triathletes on a fun and challenging course. \nBring the kids for the youth triathlon\, Mini Mortals Triathlon\, after the adult race. This is a family friendly event often attracting several families of two or three generations racing together the same day!
URL:https://coloradotriathlete.com/event/ordinary-mortals-triathlon-3/
LOCATION:Pueblo\, 2200 Bonforte Blvd\, Pueblo\, CO\, 81001\, United States
CATEGORIES:Kids Race,Sprint Distance,Triathlon
ATTACH;FMTTYPE=image/png:https://coloradotriathlete.com/wp-content/uploads/2022/08/OrdinaryMortals.png
END:VEVENT
END:VCALENDAR